BEGIN:VCALENDAR
VERSION:2.0
PRODID:-//EmployIndy - ECPv6.15.17//NONSGML v1.0//EN
CALSCALE:GREGORIAN
METHOD:PUBLISH
X-ORIGINAL-URL:https://employindy.org
X-WR-CALDESC:Events for EmployIndy
REFRESH-INTERVAL;VALUE=DURATION:PT1H
X-Robots-Tag:noindex
X-PUBLISHED-TTL:PT1H
BEGIN:VTIMEZONE
TZID:UTC
BEGIN:STANDARD
TZOFFSETFROM:+0000
TZOFFSETTO:+0000
TZNAME:UTC
DTSTART:20250101T000000
END:STANDARD
END:VTIMEZONE
BEGIN:VEVENT
DTSTART;TZID=UTC:20260303T140000
DTEND;TZID=UTC:20260303T153000
DTSTAMP:20260425T103408
CREATED:20260205T210535Z
LAST-MODIFIED:20260205T210535Z
UID:10000332-1772546400-1772551800@employindy.org
SUMMARY:Job Search Strategies
DESCRIPTION:Join Anthem and various healthcare partners/providers for a hiring event focused on careers in healthcare.								\n				\n				\n				\n							\n			\n		\n						\n				\n					\n				\n		\n					\n				\n				\n									\n					\n						\n									View Event Flyer
URL:https://employindy.org/event/job-search-strategies-4/
LOCATION:IN
CATEGORIES:WorkOne Workshops
ATTACH;FMTTYPE=image/jpeg:https://employindy.org/wp-content/uploads/2026/02/DSC00032_crop.jpg
END:VEVENT
BEGIN:VEVENT
DTSTART;TZID=UTC:20260303T140000
DTEND;TZID=UTC:20260303T153000
DTSTAMP:20260425T103408
CREATED:20260206T213727Z
LAST-MODIFIED:20260206T213727Z
UID:10000395-1772546400-1772551800@employindy.org
SUMMARY:Creating A Career Roadmap
DESCRIPTION:Join Anthem and various healthcare partners/providers for a hiring event focused on careers in healthcare.								\n				\n				\n				\n							\n			\n		\n						\n				\n					\n				\n		\n					\n				\n				\n									\n					\n						\n									View Event Flyer
URL:https://employindy.org/event/creating-a-career-roadmap-4/
LOCATION:WorkOne Indy\, 4410 Shadeland Ave\, Indianapolis\, IN\, 46226\, United States
CATEGORIES:WorkOne Workshops
ATTACH;FMTTYPE=image/jpeg:https://employindy.org/wp-content/uploads/2026/02/pexels-geojango-maps-50965933-7663519-scaled-e1770413693494.jpg
ORGANIZER;CN="WorkOne Indy":MAILTO:4410 N Shadeland Ave, Indianapolis, IN 46226
END:VEVENT
BEGIN:VEVENT
DTSTART;TZID=UTC:20260304T090000
DTEND;TZID=UTC:20260304T103000
DTSTAMP:20260425T103408
CREATED:20260206T203814Z
LAST-MODIFIED:20260206T203814Z
UID:10000362-1772614800-1772620200@employindy.org
SUMMARY:Acing Your Interview
DESCRIPTION:Join Anthem and various healthcare partners/providers for a hiring event focused on careers in healthcare.								\n				\n				\n				\n							\n			\n		\n						\n				\n					\n				\n		\n					\n				\n				\n									\n					\n						\n									View Event Flyer
URL:https://employindy.org/event/acing-your-interview-4/
LOCATION:WorkOne Indy\, 4410 Shadeland Ave\, Indianapolis\, IN\, 46226\, United States
CATEGORIES:WorkOne Workshops
ATTACH;FMTTYPE=image/jpeg:https://employindy.org/wp-content/uploads/2026/02/pexels-sora-shimazaki-5668858-scaled-e1770410046562.jpg
ORGANIZER;CN="WorkOne Indy":MAILTO:4410 N Shadeland Ave, Indianapolis, IN 46226
END:VEVENT
BEGIN:VEVENT
DTSTART;TZID=UTC:20260304T090000
DTEND;TZID=UTC:20260304T103000
DTSTAMP:20260425T103408
CREATED:20260206T210958Z
LAST-MODIFIED:20260206T210958Z
UID:10000376-1772614800-1772620200@employindy.org
SUMMARY:Tips and Tricks for Completing Online Job Applications
DESCRIPTION:Join Anthem and various healthcare partners/providers for a hiring event focused on careers in healthcare.								\n				\n				\n				\n							\n			\n		\n						\n				\n					\n				\n		\n					\n				\n				\n									\n					\n						\n									View Event Flyer
URL:https://employindy.org/event/tips-and-tricks-for-completing-online-job-applications-4/
LOCATION:WorkOne Indy\, 4410 Shadeland Ave\, Indianapolis\, IN\, 46226\, United States
CATEGORIES:WorkOne Workshops
ATTACH;FMTTYPE=image/jpeg:https://employindy.org/wp-content/uploads/2026/02/pexels-yankrukov-8867209-scaled-e1770411958697.jpg
ORGANIZER;CN="WorkOne Indy":MAILTO:4410 N Shadeland Ave, Indianapolis, IN 46226
END:VEVENT
BEGIN:VEVENT
DTSTART;TZID=UTC:20260304T110000
DTEND;TZID=UTC:20260304T123000
DTSTAMP:20260425T103408
CREATED:20260205T214316Z
LAST-MODIFIED:20260205T214316Z
UID:10000354-1772622000-1772627400@employindy.org
SUMMARY:Building an Elevator Pitch to Market Yourself
DESCRIPTION:Join Anthem and various healthcare partners/providers for a hiring event focused on careers in healthcare.								\n				\n				\n				\n							\n			\n		\n						\n				\n					\n				\n		\n					\n				\n				\n									\n					\n						\n									View Event Flyer
URL:https://employindy.org/event/building-an-elevator-pitch-to-market-yourself-4/
LOCATION:WorkOne Indy\, 4410 Shadeland Ave\, Indianapolis\, IN\, 46226\, United States
CATEGORIES:WorkOne Workshops
ATTACH;FMTTYPE=image/jpeg:https://employindy.org/wp-content/uploads/2026/02/DSC07188_crop-scaled.jpg
ORGANIZER;CN="WorkOne Indy":MAILTO:4410 N Shadeland Ave, Indianapolis, IN 46226
END:VEVENT
BEGIN:VEVENT
DTSTART;TZID=UTC:20260304T110000
DTEND;TZID=UTC:20260304T123000
DTSTAMP:20260425T103408
CREATED:20260209T194137Z
LAST-MODIFIED:20260302T200344Z
UID:10000721-1772622000-1772627400@employindy.org
SUMMARY:Planning For Training Success (VIRTUAL ONLY)
DESCRIPTION:Join Anthem and various healthcare partners/providers for a hiring event focused on careers in healthcare.								\n				\n				\n				\n							\n			\n		\n						\n				\n					\n				\n		\n					\n				\n				\n									\n					\n						\n									View Event Flyer
URL:https://employindy.org/event/planning-for-training-success-virtual-only/2026-03-04/
LOCATION:WorkOne Indy\, 4410 Shadeland Ave\, Indianapolis\, IN\, 46226\, United States
CATEGORIES:WorkOne Workshops
ATTACH;FMTTYPE=image/jpeg:https://employindy.org/wp-content/uploads/2026/02/DSC08767-e1770665747708.jpg
ORGANIZER;CN="WorkOne Indy":MAILTO:4410 N Shadeland Ave, Indianapolis, IN 46226
END:VEVENT
BEGIN:VEVENT
DTSTART;TZID=UTC:20260304T110000
DTEND;TZID=UTC:20260304T140000
DTSTAMP:20260425T103408
CREATED:20260204T210737Z
LAST-MODIFIED:20260204T210737Z
UID:10000303-1772622000-1772632800@employindy.org
SUMMARY:Wednesdays @ WorkOne Hiring Event
DESCRIPTION:Join Anthem and various healthcare partners/providers for a hiring event focused on careers in healthcare.								\n				\n				\n				\n							\n			\n		\n						\n				\n					\n				\n		\n					\n				\n				\n									\n					\n						\n									View Event Flyer
URL:https://employindy.org/event/wednesdays-workone-hiring-event-6/
LOCATION:WorkOne Career Services\, 4410 N Shadeland Ave.\, Indianapolis\, IN\, 46226\, United States
CATEGORIES:Hiring/Job Fair,In-Person
ATTACH;FMTTYPE=image/jpeg:https://employindy.org/wp-content/uploads/2025/09/5-WOI-Vesta-Family-scaled-2.jpg
ORGANIZER;CN="WorkOne Indy":MAILTO:4410 N Shadeland Ave, Indianapolis, IN 46226
END:VEVENT
BEGIN:VEVENT
DTSTART;TZID=UTC:20260304T140000
DTEND;TZID=UTC:20260304T153000
DTSTAMP:20260425T103408
CREATED:20260205T204448Z
LAST-MODIFIED:20260205T204448Z
UID:10000318-1772632800-1772638200@employindy.org
SUMMARY:WorkOne Indy WIOA Orientation
DESCRIPTION:Join Anthem and various healthcare partners/providers for a hiring event focused on careers in healthcare.								\n				\n				\n				\n							\n			\n		\n						\n				\n					\n				\n		\n					\n				\n				\n									\n					\n						\n									View Event Flyer
URL:https://employindy.org/event/workone-indy-wioa-orientation-16/
LOCATION:WorkOne Indy\, 4410 Shadeland Ave\, Indianapolis\, IN\, 46226\, United States
CATEGORIES:WorkOne Workshops
ATTACH;FMTTYPE=image/jpeg:https://employindy.org/wp-content/uploads/2025/12/DSC06961-scaled.jpg
ORGANIZER;CN="WorkOne Indy":MAILTO:4410 N Shadeland Ave, Indianapolis, IN 46226
END:VEVENT
BEGIN:VEVENT
DTSTART;TZID=UTC:20260304T140000
DTEND;TZID=UTC:20260304T153000
DTSTAMP:20260425T103408
CREATED:20260209T195724Z
LAST-MODIFIED:20260209T195724Z
UID:10000751-1772632800-1772638200@employindy.org
SUMMARY:Exploring Training Options
DESCRIPTION:Join Anthem and various healthcare partners/providers for a hiring event focused on careers in healthcare.								\n				\n				\n				\n							\n			\n		\n						\n				\n					\n				\n		\n					\n				\n				\n									\n					\n						\n									View Event Flyer
URL:https://employindy.org/event/exploring-training-options/2026-03-04/
LOCATION:WorkOne Indy\, 4410 Shadeland Ave\, Indianapolis\, IN\, 46226\, United States
CATEGORIES:WorkOne Workshops
ATTACH;FMTTYPE=image/jpeg:https://employindy.org/wp-content/uploads/2026/02/DSC06995-1-scaled-e1770666981733.jpg
ORGANIZER;CN="WorkOne Indy":MAILTO:4410 N Shadeland Ave, Indianapolis, IN 46226
END:VEVENT
BEGIN:VEVENT
DTSTART;TZID=UTC:20260304T140000
DTEND;TZID=UTC:20260304T153000
DTSTAMP:20260425T103408
CREATED:20260211T174748Z
LAST-MODIFIED:20260218T191730Z
UID:10000411-1772632800-1772638200@employindy.org
SUMMARY:Succeeding in the Workplace
DESCRIPTION:Join Anthem and various healthcare partners/providers for a hiring event focused on careers in healthcare.								\n				\n				\n				\n							\n			\n		\n						\n				\n					\n				\n		\n					\n				\n				\n									\n					\n						\n									View Event Flyer
URL:https://employindy.org/event/succeeding-in-the-workplace-2/2026-03-04/
LOCATION:WorkOne Indy\, 4410 Shadeland Ave\, Indianapolis\, IN\, 46226\, United States
CATEGORIES:WorkOne Workshops
ATTACH;FMTTYPE=image/jpeg:https://employindy.org/wp-content/uploads/2026/02/DSC07845-scaled-e1770656671568.jpg
ORGANIZER;CN="WorkOne Indy":MAILTO:4410 N Shadeland Ave, Indianapolis, IN 46226
END:VEVENT
BEGIN:VEVENT
DTSTART;TZID=UTC:20260305T083000
DTEND;TZID=UTC:20260305T100000
DTSTAMP:20260425T103408
CREATED:20260209T185923Z
LAST-MODIFIED:20260209T190101Z
UID:10000494-1772699400-1772704800@employindy.org
SUMMARY:WorkKeys Talent & Fit
DESCRIPTION:Join Anthem and various healthcare partners/providers for a hiring event focused on careers in healthcare.								\n				\n				\n				\n							\n			\n		\n						\n				\n					\n				\n		\n					\n				\n				\n									\n					\n						\n									View Event Flyer
URL:https://employindy.org/event/workkeys-talent-fit-2/2026-03-05/
LOCATION:WorkOne Indy\, 4410 Shadeland Ave\, Indianapolis\, IN\, 46226\, United States
CATEGORIES:WorkOne Workshops
ATTACH;FMTTYPE=image/jpeg:https://employindy.org/wp-content/uploads/2026/02/WorkKeys_banner.jpg
ORGANIZER;CN="WorkOne Indy":MAILTO:4410 N Shadeland Ave, Indianapolis, IN 46226
END:VEVENT
BEGIN:VEVENT
DTSTART;TZID=UTC:20260305T110000
DTEND;TZID=UTC:20260305T123000
DTSTAMP:20260425T103408
CREATED:20260205T205159Z
LAST-MODIFIED:20260205T205159Z
UID:10000325-1772708400-1772713800@employindy.org
SUMMARY:WorkOne Indy WIOA Orientation
DESCRIPTION:Join Anthem and various healthcare partners/providers for a hiring event focused on careers in healthcare.								\n				\n				\n				\n							\n			\n		\n						\n				\n					\n				\n		\n					\n				\n				\n									\n					\n						\n									View Event Flyer
URL:https://employindy.org/event/workone-indy-wioa-orientation-23/
LOCATION:WorkOne Indy\, 4410 Shadeland Ave\, Indianapolis\, IN\, 46226\, United States
CATEGORIES:WorkOne Workshops
ATTACH;FMTTYPE=image/jpeg:https://employindy.org/wp-content/uploads/2025/12/DSC06961-scaled.jpg
ORGANIZER;CN="WorkOne Indy":MAILTO:4410 N Shadeland Ave, Indianapolis, IN 46226
END:VEVENT
BEGIN:VEVENT
DTSTART;TZID=UTC:20260305T110000
DTEND;TZID=UTC:20260305T123000
DTSTAMP:20260425T103408
CREATED:20260209T194805Z
LAST-MODIFIED:20260209T194805Z
UID:10000744-1772708400-1772713800@employindy.org
SUMMARY:WorkKeys Skills Success: Assessment Prep
DESCRIPTION:Join Anthem and various healthcare partners/providers for a hiring event focused on careers in healthcare.								\n				\n				\n				\n							\n			\n		\n						\n				\n					\n				\n		\n					\n				\n				\n									\n					\n						\n									View Event Flyer
URL:https://employindy.org/event/workkeys-skills-success-assessment-prep-2/2026-03-05/
LOCATION:WorkOne Indy\, 4410 Shadeland Ave\, Indianapolis\, IN\, 46226\, United States
CATEGORIES:WorkOne Workshops
ATTACH;FMTTYPE=image/jpeg:https://employindy.org/wp-content/uploads/2026/02/WorkKeys_banner.jpg
ORGANIZER;CN="WorkOne Indy":MAILTO:4410 N Shadeland Ave, Indianapolis, IN 46226
END:VEVENT
BEGIN:VEVENT
DTSTART;TZID=UTC:20260305T130000
DTEND;TZID=UTC:20260305T143000
DTSTAMP:20260425T103408
CREATED:20260205T211602Z
LAST-MODIFIED:20260205T213630Z
UID:10000340-1772715600-1772721000@employindy.org
SUMMARY:Creating Your Resume
DESCRIPTION:Join Anthem and various healthcare partners/providers for a hiring event focused on careers in healthcare.								\n				\n				\n				\n							\n			\n		\n						\n				\n					\n				\n		\n					\n				\n				\n									\n					\n						\n									View Event Flyer
URL:https://employindy.org/event/creating-your-resume-4/
LOCATION:WorkOne Indy\, 4410 Shadeland Ave\, Indianapolis\, IN\, 46226\, United States
CATEGORIES:WorkOne Workshops
ATTACH;FMTTYPE=image/jpeg:https://employindy.org/wp-content/uploads/2026/02/DSC08391_crop.jpg
ORGANIZER;CN="WorkOne Indy":MAILTO:4410 N Shadeland Ave, Indianapolis, IN 46226
END:VEVENT
BEGIN:VEVENT
DTSTART;TZID=UTC:20260305T130000
DTEND;TZID=UTC:20260305T143000
DTSTAMP:20260425T103408
CREATED:20260206T212209Z
LAST-MODIFIED:20260206T212209Z
UID:10000384-1772715600-1772721000@employindy.org
SUMMARY:New Job - Set Up for Success
DESCRIPTION:Join Anthem and various healthcare partners/providers for a hiring event focused on careers in healthcare.								\n				\n				\n				\n							\n			\n		\n						\n				\n					\n				\n		\n					\n				\n				\n									\n					\n						\n									View Event Flyer
URL:https://employindy.org/event/new-job-set-up-for-success-4/
LOCATION:WorkOne Indy\, 4410 Shadeland Ave\, Indianapolis\, IN\, 46226\, United States
CATEGORIES:WorkOne Workshops
ATTACH;FMTTYPE=image/jpeg:https://employindy.org/wp-content/uploads/2026/02/pexels-lara-jameson-9363125-scaled-e1770412702774.jpg
ORGANIZER;CN="WorkOne Indy":MAILTO:4410 N Shadeland Ave, Indianapolis, IN 46226
END:VEVENT
BEGIN:VEVENT
DTSTART;TZID=UTC:20260305T130000
DTEND;TZID=UTC:20260305T143000
DTSTAMP:20260425T103408
CREATED:20260206T212507Z
LAST-MODIFIED:20260206T212507Z
UID:10000388-1772715600-1772721000@employindy.org
SUMMARY:New Job - Set Up for Success
DESCRIPTION:Join Anthem and various healthcare partners/providers for a hiring event focused on careers in healthcare.								\n				\n				\n				\n							\n			\n		\n						\n				\n					\n				\n		\n					\n				\n				\n									\n					\n						\n									View Event Flyer
URL:https://employindy.org/event/new-job-set-up-for-success-8/
LOCATION:WorkOne Indy\, 4410 Shadeland Ave\, Indianapolis\, IN\, 46226\, United States
CATEGORIES:WorkOne Workshops
ATTACH;FMTTYPE=image/jpeg:https://employindy.org/wp-content/uploads/2026/02/pexels-lara-jameson-9363125-scaled-e1770412702774.jpg
ORGANIZER;CN="WorkOne Indy":MAILTO:4410 N Shadeland Ave, Indianapolis, IN 46226
END:VEVENT
BEGIN:VEVENT
DTSTART;TZID=UTC:20260305T130000
DTEND;TZID=UTC:20260305T143000
DTSTAMP:20260425T103408
CREATED:20260209T192737Z
LAST-MODIFIED:20260302T215426Z
UID:10000701-1772715600-1772721000@employindy.org
SUMMARY:Intro To Labor Market Information
DESCRIPTION:Join Anthem and various healthcare partners/providers for a hiring event focused on careers in healthcare.								\n				\n				\n				\n							\n			\n		\n						\n				\n					\n				\n		\n					\n				\n				\n									\n					\n						\n									View Event Flyer
URL:https://employindy.org/event/intro-to-lmi/2026-03-05/
LOCATION:WorkOne Indy\, 4410 Shadeland Ave\, Indianapolis\, IN\, 46226\, United States
CATEGORIES:WorkOne Workshops
ATTACH;FMTTYPE=image/jpeg:https://employindy.org/wp-content/uploads/2026/02/pexels-towfiqu-barbhuiya-3440682-11333721-scaled-e1770665226572.jpg
ORGANIZER;CN="WorkOne Indy":MAILTO:4410 N Shadeland Ave, Indianapolis, IN 46226
END:VEVENT
BEGIN:VEVENT
DTSTART;TZID=UTC:20260306T083000
DTEND;TZID=UTC:20260306T100000
DTSTAMP:20260425T103408
CREATED:20260209T185309Z
LAST-MODIFIED:20260209T185351Z
UID:10000471-1772785800-1772791200@employindy.org
SUMMARY:WorkKeys for Unions Only
DESCRIPTION:Join Anthem and various healthcare partners/providers for a hiring event focused on careers in healthcare.								\n				\n				\n				\n							\n			\n		\n						\n				\n					\n				\n		\n					\n				\n				\n									\n					\n						\n									View Event Flyer
URL:https://employindy.org/event/workkeys-for-unions-only/2026-03-06/
LOCATION:WorkOne Indy\, 4410 Shadeland Ave\, Indianapolis\, IN\, 46226\, United States
CATEGORIES:WorkOne Workshops
ATTACH;FMTTYPE=image/jpeg:https://employindy.org/wp-content/uploads/2026/02/WorkKeys_banner.jpg
ORGANIZER;CN="WorkOne Indy":MAILTO:4410 N Shadeland Ave, Indianapolis, IN 46226
END:VEVENT
BEGIN:VEVENT
DTSTART;TZID=UTC:20260306T090000
DTEND;TZID=UTC:20260306T103000
DTSTAMP:20260425T103408
CREATED:20260205T212110Z
LAST-MODIFIED:20260205T213428Z
UID:10000347-1772787600-1772793000@employindy.org
SUMMARY:Creating Your Resume
DESCRIPTION:Join Anthem and various healthcare partners/providers for a hiring event focused on careers in healthcare.								\n				\n				\n				\n							\n			\n		\n						\n				\n					\n				\n		\n					\n				\n				\n									\n					\n						\n									View Event Flyer
URL:https://employindy.org/event/creating-your-resume-11/
LOCATION:WorkOne Indy\, 4410 Shadeland Ave\, Indianapolis\, IN\, 46226\, United States
CATEGORIES:WorkOne Workshops
ATTACH;FMTTYPE=image/jpeg:https://employindy.org/wp-content/uploads/2026/02/DSC08391_crop.jpg
ORGANIZER;CN="WorkOne Indy":MAILTO:4410 N Shadeland Ave, Indianapolis, IN 46226
END:VEVENT
BEGIN:VEVENT
DTSTART;TZID=UTC:20260306T110000
DTEND;TZID=UTC:20260306T123000
DTSTAMP:20260425T103408
CREATED:20260206T204940Z
LAST-MODIFIED:20260206T204940Z
UID:10000369-1772794800-1772800200@employindy.org
SUMMARY:Social Media & Networking To Find Employment
DESCRIPTION:Join Anthem and various healthcare partners/providers for a hiring event focused on careers in healthcare.								\n				\n				\n				\n							\n			\n		\n						\n				\n					\n				\n		\n					\n				\n				\n									\n					\n						\n									View Event Flyer
URL:https://employindy.org/event/social-media-networking-to-find-employment-4/
LOCATION:WorkOne Indy\, 4410 Shadeland Ave\, Indianapolis\, IN\, 46226\, United States
CATEGORIES:WorkOne Workshops
ATTACH;FMTTYPE=image/jpeg:https://employindy.org/wp-content/uploads/2026/02/AdobeStock_862381115-scaled.jpeg
ORGANIZER;CN="WorkOne Indy":MAILTO:4410 N Shadeland Ave, Indianapolis, IN 46226
END:VEVENT
BEGIN:VEVENT
DTSTART;TZID=UTC:20260306T133000
DTEND;TZID=UTC:20260306T150000
DTSTAMP:20260425T103408
CREATED:20260209T190233Z
LAST-MODIFIED:20260209T190233Z
UID:10000508-1772803800-1772809200@employindy.org
SUMMARY:WorkKeys Talent & Fit
DESCRIPTION:Join Anthem and various healthcare partners/providers for a hiring event focused on careers in healthcare.								\n				\n				\n				\n							\n			\n		\n						\n				\n					\n				\n		\n					\n				\n				\n									\n					\n						\n									View Event Flyer
URL:https://employindy.org/event/workkeys-talent-fit-3/2026-03-06/
LOCATION:WorkOne Indy\, 4410 Shadeland Ave\, Indianapolis\, IN\, 46226\, United States
CATEGORIES:WorkOne Workshops
ATTACH;FMTTYPE=image/jpeg:https://employindy.org/wp-content/uploads/2026/02/WorkKeys_banner.jpg
ORGANIZER;CN="WorkOne Indy":MAILTO:4410 N Shadeland Ave, Indianapolis, IN 46226
END:VEVENT
BEGIN:VEVENT
DTSTART;TZID=UTC:20260309T083000
DTEND;TZID=UTC:20260309T100000
DTSTAMP:20260425T103408
CREATED:20260209T191048Z
LAST-MODIFIED:20260209T191048Z
UID:10000515-1773045000-1773050400@employindy.org
SUMMARY:WorkKeys Career Readiness Assessment for All Job Seekers
DESCRIPTION:Join Anthem and various healthcare partners/providers for a hiring event focused on careers in healthcare.								\n				\n				\n				\n							\n			\n		\n						\n				\n					\n				\n		\n					\n				\n				\n									\n					\n						\n									View Event Flyer
URL:https://employindy.org/event/workkeys-career-readiness-assessment-for-all-job-seekers/2026-03-09/
LOCATION:WorkOne Indy\, 4410 Shadeland Ave\, Indianapolis\, IN\, 46226\, United States
CATEGORIES:WorkOne Workshops
ATTACH;FMTTYPE=image/jpeg:https://employindy.org/wp-content/uploads/2026/02/WorkKeys_banner.jpg
ORGANIZER;CN="WorkOne Indy":MAILTO:4410 N Shadeland Ave, Indianapolis, IN 46226
END:VEVENT
BEGIN:VEVENT
DTSTART;TZID=UTC:20260309T090000
DTEND;TZID=UTC:20260309T103000
DTSTAMP:20260425T103408
CREATED:20260106T161318Z
LAST-MODIFIED:20260204T212226Z
UID:10000287-1773046800-1773052200@employindy.org
SUMMARY:WorkOne Indy WIOA Orientation
DESCRIPTION:Join Anthem and various healthcare partners/providers for a hiring event focused on careers in healthcare.								\n				\n				\n				\n							\n			\n		\n						\n				\n					\n				\n		\n					\n				\n				\n									\n					\n						\n									View Event Flyer
URL:https://employindy.org/event/workone-indy-wioa-orientation-9/
LOCATION:WorkOne Indy\, 4410 Shadeland Ave\, Indianapolis\, IN\, 46226\, United States
CATEGORIES:WorkOne Workshops
ATTACH;FMTTYPE=image/jpeg:https://employindy.org/wp-content/uploads/2025/12/DSC06961-scaled.jpg
ORGANIZER;CN="WorkOne Indy":MAILTO:4410 N Shadeland Ave, Indianapolis, IN 46226
END:VEVENT
BEGIN:VEVENT
DTSTART;TZID=UTC:20260309T110000
DTEND;TZID=UTC:20260309T123000
DTSTAMP:20260425T103408
CREATED:20260206T214911Z
LAST-MODIFIED:20260206T214911Z
UID:10000404-1773054000-1773059400@employindy.org
SUMMARY:Basic Computer Skills
DESCRIPTION:Join Anthem and various healthcare partners/providers for a hiring event focused on careers in healthcare.								\n				\n				\n				\n							\n			\n		\n						\n				\n					\n				\n		\n					\n				\n				\n									\n					\n						\n									View Event Flyer
URL:https://employindy.org/event/basic-computer-skills-5/
LOCATION:WorkOne Indy\, 4410 Shadeland Ave\, Indianapolis\, IN\, 46226\, United States
CATEGORIES:WorkOne Workshops
ATTACH;FMTTYPE=image/jpeg:https://employindy.org/wp-content/uploads/2026/02/pexels-mikhail-nilov-9159041-scaled-e1770414233630.jpg
ORGANIZER;CN="WorkOne Indy":MAILTO:4410 N Shadeland Ave, Indianapolis, IN 46226
END:VEVENT
BEGIN:VEVENT
DTSTART;TZID=UTC:20260309T140000
DTEND;TZID=UTC:20260309T153000
DTSTAMP:20260425T103408
CREATED:20260205T203638Z
LAST-MODIFIED:20260205T203638Z
UID:10000311-1773064800-1773070200@employindy.org
SUMMARY:WorkOne Indy WIOA Orientation (VIRTUAL ONLY)
DESCRIPTION:Join Anthem and various healthcare partners/providers for a hiring event focused on careers in healthcare.								\n				\n				\n				\n							\n			\n		\n						\n				\n					\n				\n		\n					\n				\n				\n									\n					\n						\n									View Event Flyer
URL:https://employindy.org/event/workone-indy-wioa-orientation-virtual-only-5/
LOCATION:WorkOne Indy\, 4410 Shadeland Ave\, Indianapolis\, IN\, 46226\, United States
CATEGORIES:WorkOne Workshops
ATTACH;FMTTYPE=image/jpeg:https://employindy.org/wp-content/uploads/2025/12/DSC06961-scaled.jpg
ORGANIZER;CN="WorkOne Indy":MAILTO:4410 N Shadeland Ave, Indianapolis, IN 46226
END:VEVENT
BEGIN:VEVENT
DTSTART;TZID=UTC:20260309T140000
DTEND;TZID=UTC:20260309T153000
DTSTAMP:20260425T103408
CREATED:20260209T193923Z
LAST-MODIFIED:20260302T200538Z
UID:10000708-1773064800-1773070200@employindy.org
SUMMARY:Planning For Training Success
DESCRIPTION:Join Anthem and various healthcare partners/providers for a hiring event focused on careers in healthcare.								\n				\n				\n				\n							\n			\n		\n						\n				\n					\n				\n		\n					\n				\n				\n									\n					\n						\n									View Event Flyer
URL:https://employindy.org/event/planning-for-training-success/2026-03-09/
LOCATION:WorkOne Indy\, 4410 Shadeland Ave\, Indianapolis\, IN\, 46226\, United States
CATEGORIES:WorkOne Workshops
ATTACH;FMTTYPE=image/jpeg:https://employindy.org/wp-content/uploads/2026/02/DSC08767-e1770665747708.jpg
ORGANIZER;CN="WorkOne Indy":MAILTO:4410 N Shadeland Ave, Indianapolis, IN 46226
END:VEVENT
BEGIN:VEVENT
DTSTART;TZID=UTC:20260310T083000
DTEND;TZID=UTC:20260310T100000
DTSTAMP:20260425T103408
CREATED:20260209T191235Z
LAST-MODIFIED:20260209T191235Z
UID:10000633-1773131400-1773136800@employindy.org
SUMMARY:WorkKeys Career Readiness Assessment for All Job Seekers
DESCRIPTION:Join Anthem and various healthcare partners/providers for a hiring event focused on careers in healthcare.								\n				\n				\n				\n							\n			\n		\n						\n				\n					\n				\n		\n					\n				\n				\n									\n					\n						\n									View Event Flyer
URL:https://employindy.org/event/workkeys-career-readiness-assessment-for-all-job-seekers-2/2026-03-10/
LOCATION:WorkOne Indy\, 4410 Shadeland Ave\, Indianapolis\, IN\, 46226\, United States
CATEGORIES:WorkOne Workshops
ATTACH;FMTTYPE=image/jpeg:https://employindy.org/wp-content/uploads/2026/02/WorkKeys_banner.jpg
ORGANIZER;CN="WorkOne Indy":MAILTO:4410 N Shadeland Ave, Indianapolis, IN 46226
END:VEVENT
BEGIN:VEVENT
DTSTART;TZID=UTC:20260310T090000
DTEND;TZID=UTC:20260310T103000
DTSTAMP:20260425T103408
CREATED:20260209T191827Z
LAST-MODIFIED:20260209T191827Z
UID:10000693-1773133200-1773138600@employindy.org
SUMMARY:Coffee Connections - WorkOne Indy Job Club
DESCRIPTION:Join Anthem and various healthcare partners/providers for a hiring event focused on careers in healthcare.								\n				\n				\n				\n							\n			\n		\n						\n				\n					\n				\n		\n					\n				\n				\n									\n					\n						\n									View Event Flyer
URL:https://employindy.org/event/coffee-connections-workone-indy-job-club/2026-03-10/
LOCATION:WorkOne Indy\, 4410 Shadeland Ave\, Indianapolis\, IN\, 46226\, United States
CATEGORIES:WorkOne Workshops
ATTACH;FMTTYPE=image/jpeg:https://employindy.org/wp-content/uploads/2026/02/DSC08850-1.jpg
ORGANIZER;CN="WorkOne Indy":MAILTO:4410 N Shadeland Ave, Indianapolis, IN 46226
END:VEVENT
BEGIN:VEVENT
DTSTART;TZID=UTC:20260310T090000
DTEND;TZID=UTC:20260310T103000
DTSTAMP:20260425T103408
CREATED:20260209T194623Z
LAST-MODIFIED:20260209T194623Z
UID:10000729-1773133200-1773138600@employindy.org
SUMMARY:WorkKeys Skills Success: Assessment Prep
DESCRIPTION:Join Anthem and various healthcare partners/providers for a hiring event focused on careers in healthcare.								\n				\n				\n				\n							\n			\n		\n						\n				\n					\n				\n		\n					\n				\n				\n									\n					\n						\n									View Event Flyer
URL:https://employindy.org/event/workkeys-skills-success-assessment-prep/2026-03-10/
LOCATION:WorkOne Indy\, 4410 Shadeland Ave\, Indianapolis\, IN\, 46226\, United States
CATEGORIES:WorkOne Workshops
ATTACH;FMTTYPE=image/jpeg:https://employindy.org/wp-content/uploads/2026/02/WorkKeys_banner.jpg
ORGANIZER;CN="WorkOne Indy":MAILTO:4410 N Shadeland Ave, Indianapolis, IN 46226
END:VEVENT
BEGIN:VEVENT
DTSTART;TZID=UTC:20260310T103000
DTEND;TZID=UTC:20260310T120000
DTSTAMP:20260425T103408
CREATED:20260209T185621Z
LAST-MODIFIED:20260209T185621Z
UID:10000479-1773138600-1773144000@employindy.org
SUMMARY:WorkKeys Talent & Fit
DESCRIPTION:Join Anthem and various healthcare partners/providers for a hiring event focused on careers in healthcare.								\n				\n				\n				\n							\n			\n		\n						\n				\n					\n				\n		\n					\n				\n				\n									\n					\n						\n									View Event Flyer
URL:https://employindy.org/event/workkeys-talent-fit/2026-03-10/
LOCATION:WorkOne Indy\, 4410 Shadeland Ave\, Indianapolis\, IN\, 46226\, United States
CATEGORIES:WorkOne Workshops
ATTACH;FMTTYPE=image/jpeg:https://employindy.org/wp-content/uploads/2026/02/WorkKeys_banner.jpg
ORGANIZER;CN="WorkOne Indy":MAILTO:4410 N Shadeland Ave, Indianapolis, IN 46226
END:VEVENT
END:VCALENDAR