BEGIN:VCALENDAR
VERSION:2.0
PRODID:-//EmployIndy - ECPv6.15.17//NONSGML v1.0//EN
CALSCALE:GREGORIAN
METHOD:PUBLISH
X-ORIGINAL-URL:https://employindy.org
X-WR-CALDESC:Events for EmployIndy
REFRESH-INTERVAL;VALUE=DURATION:PT1H
X-Robots-Tag:noindex
X-PUBLISHED-TTL:PT1H
BEGIN:VTIMEZONE
TZID:UTC
BEGIN:STANDARD
TZOFFSETFROM:+0000
TZOFFSETTO:+0000
TZNAME:UTC
DTSTART:20250101T000000
END:STANDARD
END:VTIMEZONE
BEGIN:VEVENT
DTSTART;TZID=UTC:20260218T090000
DTEND;TZID=UTC:20260218T103000
DTSTAMP:20260419T172049
CREATED:20260206T203620Z
LAST-MODIFIED:20260206T203620Z
UID:10000360-1771405200-1771410600@employindy.org
SUMMARY:Acing Your Interview
DESCRIPTION:Join Anthem and various healthcare partners/providers for a hiring event focused on careers in healthcare.								\n				\n				\n				\n							\n			\n		\n						\n				\n					\n				\n		\n					\n				\n				\n									\n					\n						\n									View Event Flyer
URL:https://employindy.org/event/acing-your-interview-2/
LOCATION:WorkOne Indy\, 4410 Shadeland Ave\, Indianapolis\, IN\, 46226\, United States
CATEGORIES:WorkOne Workshops
ATTACH;FMTTYPE=image/jpeg:https://employindy.org/wp-content/uploads/2026/02/pexels-sora-shimazaki-5668858-scaled-e1770410046562.jpg
ORGANIZER;CN="WorkOne Indy":MAILTO:4410 N Shadeland Ave, Indianapolis, IN 46226
END:VEVENT
BEGIN:VEVENT
DTSTART;TZID=UTC:20260218T090000
DTEND;TZID=UTC:20260218T103000
DTSTAMP:20260419T172049
CREATED:20260206T210821Z
LAST-MODIFIED:20260206T210821Z
UID:10000374-1771405200-1771410600@employindy.org
SUMMARY:Tips and Tricks for Completing Online Job Applications
DESCRIPTION:Join Anthem and various healthcare partners/providers for a hiring event focused on careers in healthcare.								\n				\n				\n				\n							\n			\n		\n						\n				\n					\n				\n		\n					\n				\n				\n									\n					\n						\n									View Event Flyer
URL:https://employindy.org/event/tips-and-tricks-for-completing-online-job-applications-2/
LOCATION:WorkOne Indy\, 4410 Shadeland Ave\, Indianapolis\, IN\, 46226\, United States
CATEGORIES:WorkOne Workshops
ATTACH;FMTTYPE=image/jpeg:https://employindy.org/wp-content/uploads/2026/02/pexels-yankrukov-8867209-scaled-e1770411958697.jpg
ORGANIZER;CN="WorkOne Indy":MAILTO:4410 N Shadeland Ave, Indianapolis, IN 46226
END:VEVENT
BEGIN:VEVENT
DTSTART;TZID=UTC:20260218T110000
DTEND;TZID=UTC:20260218T123000
DTSTAMP:20260419T172049
CREATED:20260205T214147Z
LAST-MODIFIED:20260205T214147Z
UID:10000352-1771412400-1771417800@employindy.org
SUMMARY:Building an Elevator Pitch to Market Yourself
DESCRIPTION:Join Anthem and various healthcare partners/providers for a hiring event focused on careers in healthcare.								\n				\n				\n				\n							\n			\n		\n						\n				\n					\n				\n		\n					\n				\n				\n									\n					\n						\n									View Event Flyer
URL:https://employindy.org/event/building-an-elevator-pitch-to-market-yourself-2/
LOCATION:WorkOne Indy\, 4410 Shadeland Ave\, Indianapolis\, IN\, 46226\, United States
CATEGORIES:WorkOne Workshops
ATTACH;FMTTYPE=image/jpeg:https://employindy.org/wp-content/uploads/2026/02/DSC07188_crop-scaled.jpg
ORGANIZER;CN="WorkOne Indy":MAILTO:4410 N Shadeland Ave, Indianapolis, IN 46226
END:VEVENT
BEGIN:VEVENT
DTSTART;TZID=UTC:20260218T110000
DTEND;TZID=UTC:20260218T123000
DTSTAMP:20260419T172049
CREATED:20260209T194137Z
LAST-MODIFIED:20260302T200344Z
UID:10000719-1771412400-1771417800@employindy.org
SUMMARY:Planning For Training Success (VIRTUAL ONLY)
DESCRIPTION:Join Anthem and various healthcare partners/providers for a hiring event focused on careers in healthcare.								\n				\n				\n				\n							\n			\n		\n						\n				\n					\n				\n		\n					\n				\n				\n									\n					\n						\n									View Event Flyer
URL:https://employindy.org/event/planning-for-training-success-virtual-only/2026-02-18/
LOCATION:WorkOne Indy\, 4410 Shadeland Ave\, Indianapolis\, IN\, 46226\, United States
CATEGORIES:WorkOne Workshops
ATTACH;FMTTYPE=image/jpeg:https://employindy.org/wp-content/uploads/2026/02/DSC08767-e1770665747708.jpg
ORGANIZER;CN="WorkOne Indy":MAILTO:4410 N Shadeland Ave, Indianapolis, IN 46226
END:VEVENT
BEGIN:VEVENT
DTSTART;TZID=UTC:20260218T110000
DTEND;TZID=UTC:20260218T140000
DTSTAMP:20260419T172049
CREATED:20260204T210334Z
LAST-MODIFIED:20260204T210334Z
UID:10000301-1771412400-1771423200@employindy.org
SUMMARY:Wednesdays @ WorkOne Hiring Event
DESCRIPTION:Join Anthem and various healthcare partners/providers for a hiring event focused on careers in healthcare.								\n				\n				\n				\n							\n			\n		\n						\n				\n					\n				\n		\n					\n				\n				\n									\n					\n						\n									View Event Flyer
URL:https://employindy.org/event/wednesdays-workone-hiring-event-4/
LOCATION:WorkOne Career Services\, 4410 N Shadeland Ave.\, Indianapolis\, IN\, 46226\, United States
CATEGORIES:Hiring/Job Fair,In-Person
ATTACH;FMTTYPE=image/jpeg:https://employindy.org/wp-content/uploads/2025/09/5-WOI-Vesta-Family-scaled-2.jpg
ORGANIZER;CN="WorkOne Indy":MAILTO:4410 N Shadeland Ave, Indianapolis, IN 46226
END:VEVENT
BEGIN:VEVENT
DTSTART;TZID=UTC:20260218T140000
DTEND;TZID=UTC:20260218T153000
DTSTAMP:20260419T172049
CREATED:20260205T204316Z
LAST-MODIFIED:20260205T204316Z
UID:10000316-1771423200-1771428600@employindy.org
SUMMARY:WorkOne Indy WIOA Orientation
DESCRIPTION:Join Anthem and various healthcare partners/providers for a hiring event focused on careers in healthcare.								\n				\n				\n				\n							\n			\n		\n						\n				\n					\n				\n		\n					\n				\n				\n									\n					\n						\n									View Event Flyer
URL:https://employindy.org/event/workone-indy-wioa-orientation-14/
LOCATION:WorkOne Indy\, 4410 Shadeland Ave\, Indianapolis\, IN\, 46226\, United States
CATEGORIES:WorkOne Workshops
ATTACH;FMTTYPE=image/jpeg:https://employindy.org/wp-content/uploads/2025/12/DSC06961-scaled.jpg
ORGANIZER;CN="WorkOne Indy":MAILTO:4410 N Shadeland Ave, Indianapolis, IN 46226
END:VEVENT
BEGIN:VEVENT
DTSTART;TZID=UTC:20260218T140000
DTEND;TZID=UTC:20260218T153000
DTSTAMP:20260419T172049
CREATED:20260209T195724Z
LAST-MODIFIED:20260209T195724Z
UID:10000749-1771423200-1771428600@employindy.org
SUMMARY:Exploring Training Options
DESCRIPTION:Join Anthem and various healthcare partners/providers for a hiring event focused on careers in healthcare.								\n				\n				\n				\n							\n			\n		\n						\n				\n					\n				\n		\n					\n				\n				\n									\n					\n						\n									View Event Flyer
URL:https://employindy.org/event/exploring-training-options/2026-02-18/
LOCATION:WorkOne Indy\, 4410 Shadeland Ave\, Indianapolis\, IN\, 46226\, United States
CATEGORIES:WorkOne Workshops
ATTACH;FMTTYPE=image/jpeg:https://employindy.org/wp-content/uploads/2026/02/DSC06995-1-scaled-e1770666981733.jpg
ORGANIZER;CN="WorkOne Indy":MAILTO:4410 N Shadeland Ave, Indianapolis, IN 46226
END:VEVENT
BEGIN:VEVENT
DTSTART;TZID=UTC:20260218T140000
DTEND;TZID=UTC:20260218T153000
DTSTAMP:20260419T172049
CREATED:20260211T174748Z
LAST-MODIFIED:20260218T191730Z
UID:10000409-1771423200-1771428600@employindy.org
SUMMARY:Succeeding in the Workplace
DESCRIPTION:Join Anthem and various healthcare partners/providers for a hiring event focused on careers in healthcare.								\n				\n				\n				\n							\n			\n		\n						\n				\n					\n				\n		\n					\n				\n				\n									\n					\n						\n									View Event Flyer
URL:https://employindy.org/event/succeeding-in-the-workplace-2/2026-02-18/
LOCATION:WorkOne Indy\, 4410 Shadeland Ave\, Indianapolis\, IN\, 46226\, United States
CATEGORIES:WorkOne Workshops
ATTACH;FMTTYPE=image/jpeg:https://employindy.org/wp-content/uploads/2026/02/DSC07845-scaled-e1770656671568.jpg
ORGANIZER;CN="WorkOne Indy":MAILTO:4410 N Shadeland Ave, Indianapolis, IN 46226
END:VEVENT
BEGIN:VEVENT
DTSTART;TZID=UTC:20260219T083000
DTEND;TZID=UTC:20260219T100000
DTSTAMP:20260419T172049
CREATED:20260209T185923Z
LAST-MODIFIED:20260209T190101Z
UID:10000492-1771489800-1771495200@employindy.org
SUMMARY:WorkKeys Talent & Fit
DESCRIPTION:Join Anthem and various healthcare partners/providers for a hiring event focused on careers in healthcare.								\n				\n				\n				\n							\n			\n		\n						\n				\n					\n				\n		\n					\n				\n				\n									\n					\n						\n									View Event Flyer
URL:https://employindy.org/event/workkeys-talent-fit-2/2026-02-19/
LOCATION:WorkOne Indy\, 4410 Shadeland Ave\, Indianapolis\, IN\, 46226\, United States
CATEGORIES:WorkOne Workshops
ATTACH;FMTTYPE=image/jpeg:https://employindy.org/wp-content/uploads/2026/02/WorkKeys_banner.jpg
ORGANIZER;CN="WorkOne Indy":MAILTO:4410 N Shadeland Ave, Indianapolis, IN 46226
END:VEVENT
BEGIN:VEVENT
DTSTART;TZID=UTC:20260219T110000
DTEND;TZID=UTC:20260219T123000
DTSTAMP:20260419T172049
CREATED:20260205T204939Z
LAST-MODIFIED:20260205T204939Z
UID:10000323-1771498800-1771504200@employindy.org
SUMMARY:WorkOne Indy WIOA Orientation
DESCRIPTION:Join Anthem and various healthcare partners/providers for a hiring event focused on careers in healthcare.								\n				\n				\n				\n							\n			\n		\n						\n				\n					\n				\n		\n					\n				\n				\n									\n					\n						\n									View Event Flyer
URL:https://employindy.org/event/workone-indy-wioa-orientation-21/
LOCATION:WorkOne Indy\, 4410 Shadeland Ave\, Indianapolis\, IN\, 46226\, United States
CATEGORIES:WorkOne Workshops
ATTACH;FMTTYPE=image/jpeg:https://employindy.org/wp-content/uploads/2025/12/DSC06961-scaled.jpg
ORGANIZER;CN="WorkOne Indy":MAILTO:4410 N Shadeland Ave, Indianapolis, IN 46226
END:VEVENT
BEGIN:VEVENT
DTSTART;TZID=UTC:20260219T110000
DTEND;TZID=UTC:20260219T123000
DTSTAMP:20260419T172049
CREATED:20260209T194805Z
LAST-MODIFIED:20260209T194805Z
UID:10000742-1771498800-1771504200@employindy.org
SUMMARY:WorkKeys Skills Success: Assessment Prep
DESCRIPTION:Join Anthem and various healthcare partners/providers for a hiring event focused on careers in healthcare.								\n				\n				\n				\n							\n			\n		\n						\n				\n					\n				\n		\n					\n				\n				\n									\n					\n						\n									View Event Flyer
URL:https://employindy.org/event/workkeys-skills-success-assessment-prep-2/2026-02-19/
LOCATION:WorkOne Indy\, 4410 Shadeland Ave\, Indianapolis\, IN\, 46226\, United States
CATEGORIES:WorkOne Workshops
ATTACH;FMTTYPE=image/jpeg:https://employindy.org/wp-content/uploads/2026/02/WorkKeys_banner.jpg
ORGANIZER;CN="WorkOne Indy":MAILTO:4410 N Shadeland Ave, Indianapolis, IN 46226
END:VEVENT
BEGIN:VEVENT
DTSTART;TZID=UTC:20260219T130000
DTEND;TZID=UTC:20260219T143000
DTSTAMP:20260419T172049
CREATED:20260205T211450Z
LAST-MODIFIED:20260205T213705Z
UID:10000338-1771506000-1771511400@employindy.org
SUMMARY:Creating Your Resume
DESCRIPTION:Join Anthem and various healthcare partners/providers for a hiring event focused on careers in healthcare.								\n				\n				\n				\n							\n			\n		\n						\n				\n					\n				\n		\n					\n				\n				\n									\n					\n						\n									View Event Flyer
URL:https://employindy.org/event/creating-your-resume-2/
LOCATION:WorkOne Indy\, 4410 Shadeland Ave\, Indianapolis\, IN\, 46226\, United States
CATEGORIES:WorkOne Workshops
ATTACH;FMTTYPE=image/jpeg:https://employindy.org/wp-content/uploads/2026/02/DSC08391_crop.jpg
ORGANIZER;CN="WorkOne Indy":MAILTO:4410 N Shadeland Ave, Indianapolis, IN 46226
END:VEVENT
BEGIN:VEVENT
DTSTART;TZID=UTC:20260219T130000
DTEND;TZID=UTC:20260219T143000
DTSTAMP:20260419T172049
CREATED:20260206T212051Z
LAST-MODIFIED:20260206T212051Z
UID:10000382-1771506000-1771511400@employindy.org
SUMMARY:New Job - Set Up for Success
DESCRIPTION:Join Anthem and various healthcare partners/providers for a hiring event focused on careers in healthcare.								\n				\n				\n				\n							\n			\n		\n						\n				\n					\n				\n		\n					\n				\n				\n									\n					\n						\n									View Event Flyer
URL:https://employindy.org/event/new-job-set-up-for-success-2/
LOCATION:WorkOne Indy\, 4410 Shadeland Ave\, Indianapolis\, IN\, 46226\, United States
CATEGORIES:WorkOne Workshops
ATTACH;FMTTYPE=image/jpeg:https://employindy.org/wp-content/uploads/2026/02/pexels-lara-jameson-9363125-scaled-e1770412702774.jpg
ORGANIZER;CN="WorkOne Indy":MAILTO:4410 N Shadeland Ave, Indianapolis, IN 46226
END:VEVENT
BEGIN:VEVENT
DTSTART;TZID=UTC:20260219T130000
DTEND;TZID=UTC:20260219T143000
DTSTAMP:20260419T172049
CREATED:20260206T212400Z
LAST-MODIFIED:20260206T212400Z
UID:10000381-1771506000-1771511400@employindy.org
SUMMARY:New Job - Set Up for Success
DESCRIPTION:Join Anthem and various healthcare partners/providers for a hiring event focused on careers in healthcare.								\n				\n				\n				\n							\n			\n		\n						\n				\n					\n				\n		\n					\n				\n				\n									\n					\n						\n									View Event Flyer
URL:https://employindy.org/event/new-job-set-up-for-success-6/
LOCATION:WorkOne Indy\, 4410 Shadeland Ave\, Indianapolis\, IN\, 46226\, United States
CATEGORIES:WorkOne Workshops
ATTACH;FMTTYPE=image/jpeg:https://employindy.org/wp-content/uploads/2026/02/pexels-lara-jameson-9363125-scaled-e1770412702774.jpg
ORGANIZER;CN="WorkOne Indy":MAILTO:4410 N Shadeland Ave, Indianapolis, IN 46226
END:VEVENT
BEGIN:VEVENT
DTSTART;TZID=UTC:20260219T130000
DTEND;TZID=UTC:20260219T143000
DTSTAMP:20260419T172049
CREATED:20260209T192737Z
LAST-MODIFIED:20260302T215426Z
UID:10000699-1771506000-1771511400@employindy.org
SUMMARY:Intro To Labor Market Information
DESCRIPTION:Join Anthem and various healthcare partners/providers for a hiring event focused on careers in healthcare.								\n				\n				\n				\n							\n			\n		\n						\n				\n					\n				\n		\n					\n				\n				\n									\n					\n						\n									View Event Flyer
URL:https://employindy.org/event/intro-to-lmi/2026-02-19/
LOCATION:WorkOne Indy\, 4410 Shadeland Ave\, Indianapolis\, IN\, 46226\, United States
CATEGORIES:WorkOne Workshops
ATTACH;FMTTYPE=image/jpeg:https://employindy.org/wp-content/uploads/2026/02/pexels-towfiqu-barbhuiya-3440682-11333721-scaled-e1770665226572.jpg
ORGANIZER;CN="WorkOne Indy":MAILTO:4410 N Shadeland Ave, Indianapolis, IN 46226
END:VEVENT
BEGIN:VEVENT
DTSTART;TZID=UTC:20260220T083000
DTEND;TZID=UTC:20260220T100000
DTSTAMP:20260419T172049
CREATED:20260209T185309Z
LAST-MODIFIED:20260209T185351Z
UID:10000469-1771576200-1771581600@employindy.org
SUMMARY:WorkKeys for Unions Only
DESCRIPTION:Join Anthem and various healthcare partners/providers for a hiring event focused on careers in healthcare.								\n				\n				\n				\n							\n			\n		\n						\n				\n					\n				\n		\n					\n				\n				\n									\n					\n						\n									View Event Flyer
URL:https://employindy.org/event/workkeys-for-unions-only/2026-02-20/
LOCATION:WorkOne Indy\, 4410 Shadeland Ave\, Indianapolis\, IN\, 46226\, United States
CATEGORIES:WorkOne Workshops
ATTACH;FMTTYPE=image/jpeg:https://employindy.org/wp-content/uploads/2026/02/WorkKeys_banner.jpg
ORGANIZER;CN="WorkOne Indy":MAILTO:4410 N Shadeland Ave, Indianapolis, IN 46226
END:VEVENT
BEGIN:VEVENT
DTSTART;TZID=UTC:20260220T090000
DTEND;TZID=UTC:20260220T103000
DTSTAMP:20260419T172049
CREATED:20260205T211903Z
LAST-MODIFIED:20260205T213506Z
UID:10000345-1771578000-1771583400@employindy.org
SUMMARY:Creating Your Resume
DESCRIPTION:Join Anthem and various healthcare partners/providers for a hiring event focused on careers in healthcare.								\n				\n				\n				\n							\n			\n		\n						\n				\n					\n				\n		\n					\n				\n				\n									\n					\n						\n									View Event Flyer
URL:https://employindy.org/event/creating-your-resume-9/
LOCATION:WorkOne Indy\, 4410 Shadeland Ave\, Indianapolis\, IN\, 46226\, United States
CATEGORIES:WorkOne Workshops
ATTACH;FMTTYPE=image/jpeg:https://employindy.org/wp-content/uploads/2026/02/DSC08391_crop.jpg
ORGANIZER;CN="WorkOne Indy":MAILTO:4410 N Shadeland Ave, Indianapolis, IN 46226
END:VEVENT
BEGIN:VEVENT
DTSTART;TZID=UTC:20260220T110000
DTEND;TZID=UTC:20260220T123000
DTSTAMP:20260419T172049
CREATED:20260206T204711Z
LAST-MODIFIED:20260206T204711Z
UID:10000367-1771585200-1771590600@employindy.org
SUMMARY:Social Media & Networking To Find Employment
DESCRIPTION:Join Anthem and various healthcare partners/providers for a hiring event focused on careers in healthcare.								\n				\n				\n				\n							\n			\n		\n						\n				\n					\n				\n		\n					\n				\n				\n									\n					\n						\n									View Event Flyer
URL:https://employindy.org/event/social-media-networking-to-find-employment-2/
LOCATION:WorkOne Indy\, 4410 Shadeland Ave\, Indianapolis\, IN\, 46226\, United States
CATEGORIES:WorkOne Workshops
ATTACH;FMTTYPE=image/jpeg:https://employindy.org/wp-content/uploads/2026/02/AdobeStock_862381115-scaled.jpeg
ORGANIZER;CN="WorkOne Indy":MAILTO:4410 N Shadeland Ave, Indianapolis, IN 46226
END:VEVENT
BEGIN:VEVENT
DTSTART;TZID=UTC:20260220T133000
DTEND;TZID=UTC:20260220T150000
DTSTAMP:20260419T172049
CREATED:20260209T190233Z
LAST-MODIFIED:20260209T190233Z
UID:10000506-1771594200-1771599600@employindy.org
SUMMARY:WorkKeys Talent & Fit
DESCRIPTION:Join Anthem and various healthcare partners/providers for a hiring event focused on careers in healthcare.								\n				\n				\n				\n							\n			\n		\n						\n				\n					\n				\n		\n					\n				\n				\n									\n					\n						\n									View Event Flyer
URL:https://employindy.org/event/workkeys-talent-fit-3/2026-02-20/
LOCATION:WorkOne Indy\, 4410 Shadeland Ave\, Indianapolis\, IN\, 46226\, United States
CATEGORIES:WorkOne Workshops
ATTACH;FMTTYPE=image/jpeg:https://employindy.org/wp-content/uploads/2026/02/WorkKeys_banner.jpg
ORGANIZER;CN="WorkOne Indy":MAILTO:4410 N Shadeland Ave, Indianapolis, IN 46226
END:VEVENT
BEGIN:VEVENT
DTSTART;TZID=UTC:20260223T083000
DTEND;TZID=UTC:20260223T100000
DTSTAMP:20260419T172049
CREATED:20260209T191048Z
LAST-MODIFIED:20260209T191048Z
UID:10000513-1771835400-1771840800@employindy.org
SUMMARY:WorkKeys Career Readiness Assessment for All Job Seekers
DESCRIPTION:Join Anthem and various healthcare partners/providers for a hiring event focused on careers in healthcare.								\n				\n				\n				\n							\n			\n		\n						\n				\n					\n				\n		\n					\n				\n				\n									\n					\n						\n									View Event Flyer
URL:https://employindy.org/event/workkeys-career-readiness-assessment-for-all-job-seekers/2026-02-23/
LOCATION:WorkOne Indy\, 4410 Shadeland Ave\, Indianapolis\, IN\, 46226\, United States
CATEGORIES:WorkOne Workshops
ATTACH;FMTTYPE=image/jpeg:https://employindy.org/wp-content/uploads/2026/02/WorkKeys_banner.jpg
ORGANIZER;CN="WorkOne Indy":MAILTO:4410 N Shadeland Ave, Indianapolis, IN 46226
END:VEVENT
BEGIN:VEVENT
DTSTART;TZID=UTC:20260223T090000
DTEND;TZID=UTC:20260223T103000
DTSTAMP:20260419T172049
CREATED:20260106T160521Z
LAST-MODIFIED:20260204T212301Z
UID:10000285-1771837200-1771842600@employindy.org
SUMMARY:WorkOne Indy WIOA Orientation
DESCRIPTION:Join Anthem and various healthcare partners/providers for a hiring event focused on careers in healthcare.								\n				\n				\n				\n							\n			\n		\n						\n				\n					\n				\n		\n					\n				\n				\n									\n					\n						\n									View Event Flyer
URL:https://employindy.org/event/workone-indy-wioa-orientation-7/
LOCATION:WorkOne Indy\, 4410 Shadeland Ave\, Indianapolis\, IN\, 46226\, United States
CATEGORIES:WorkOne Workshops
ATTACH;FMTTYPE=image/jpeg:https://employindy.org/wp-content/uploads/2025/12/DSC06961-scaled.jpg
ORGANIZER;CN="WorkOne Indy":MAILTO:4410 N Shadeland Ave, Indianapolis, IN 46226
END:VEVENT
BEGIN:VEVENT
DTSTART;TZID=UTC:20260223T110000
DTEND;TZID=UTC:20260223T123000
DTSTAMP:20260419T172049
CREATED:20260206T214815Z
LAST-MODIFIED:20260206T214815Z
UID:10000402-1771844400-1771849800@employindy.org
SUMMARY:Basic Computer Skills
DESCRIPTION:Join Anthem and various healthcare partners/providers for a hiring event focused on careers in healthcare.								\n				\n				\n				\n							\n			\n		\n						\n				\n					\n				\n		\n					\n				\n				\n									\n					\n						\n									View Event Flyer
URL:https://employindy.org/event/basic-computer-skills-3/
LOCATION:WorkOne Indy\, 4410 Shadeland Ave\, Indianapolis\, IN\, 46226\, United States
CATEGORIES:WorkOne Workshops
ATTACH;FMTTYPE=image/jpeg:https://employindy.org/wp-content/uploads/2026/02/pexels-mikhail-nilov-9159041-scaled-e1770414233630.jpg
ORGANIZER;CN="WorkOne Indy":MAILTO:4410 N Shadeland Ave, Indianapolis, IN 46226
END:VEVENT
BEGIN:VEVENT
DTSTART;TZID=UTC:20260223T140000
DTEND;TZID=UTC:20260223T153000
DTSTAMP:20260419T172049
CREATED:20260205T203454Z
LAST-MODIFIED:20260205T203454Z
UID:10000309-1771855200-1771860600@employindy.org
SUMMARY:WorkOne Indy WIOA Orientation (VIRTUAL ONLY)
DESCRIPTION:Join Anthem and various healthcare partners/providers for a hiring event focused on careers in healthcare.								\n				\n				\n				\n							\n			\n		\n						\n				\n					\n				\n		\n					\n				\n				\n									\n					\n						\n									View Event Flyer
URL:https://employindy.org/event/workone-indy-wioa-orientation-virtual-only-3/
LOCATION:WorkOne Indy\, 4410 Shadeland Ave\, Indianapolis\, IN\, 46226\, United States
CATEGORIES:WorkOne Workshops
ATTACH;FMTTYPE=image/jpeg:https://employindy.org/wp-content/uploads/2025/12/DSC06961-scaled.jpg
ORGANIZER;CN="WorkOne Indy":MAILTO:4410 N Shadeland Ave, Indianapolis, IN 46226
END:VEVENT
BEGIN:VEVENT
DTSTART;TZID=UTC:20260223T140000
DTEND;TZID=UTC:20260223T153000
DTSTAMP:20260419T172049
CREATED:20260209T193923Z
LAST-MODIFIED:20260302T200538Z
UID:10000706-1771855200-1771860600@employindy.org
SUMMARY:Planning For Training Success
DESCRIPTION:Join Anthem and various healthcare partners/providers for a hiring event focused on careers in healthcare.								\n				\n				\n				\n							\n			\n		\n						\n				\n					\n				\n		\n					\n				\n				\n									\n					\n						\n									View Event Flyer
URL:https://employindy.org/event/planning-for-training-success/2026-02-23/
LOCATION:WorkOne Indy\, 4410 Shadeland Ave\, Indianapolis\, IN\, 46226\, United States
CATEGORIES:WorkOne Workshops
ATTACH;FMTTYPE=image/jpeg:https://employindy.org/wp-content/uploads/2026/02/DSC08767-e1770665747708.jpg
ORGANIZER;CN="WorkOne Indy":MAILTO:4410 N Shadeland Ave, Indianapolis, IN 46226
END:VEVENT
BEGIN:VEVENT
DTSTART;TZID=UTC:20260224T083000
DTEND;TZID=UTC:20260224T100000
DTSTAMP:20260419T172049
CREATED:20260209T191235Z
LAST-MODIFIED:20260209T191235Z
UID:10000631-1771921800-1771927200@employindy.org
SUMMARY:WorkKeys Career Readiness Assessment for All Job Seekers
DESCRIPTION:Join Anthem and various healthcare partners/providers for a hiring event focused on careers in healthcare.								\n				\n				\n				\n							\n			\n		\n						\n				\n					\n				\n		\n					\n				\n				\n									\n					\n						\n									View Event Flyer
URL:https://employindy.org/event/workkeys-career-readiness-assessment-for-all-job-seekers-2/2026-02-24/
LOCATION:WorkOne Indy\, 4410 Shadeland Ave\, Indianapolis\, IN\, 46226\, United States
CATEGORIES:WorkOne Workshops
ATTACH;FMTTYPE=image/jpeg:https://employindy.org/wp-content/uploads/2026/02/WorkKeys_banner.jpg
ORGANIZER;CN="WorkOne Indy":MAILTO:4410 N Shadeland Ave, Indianapolis, IN 46226
END:VEVENT
BEGIN:VEVENT
DTSTART;TZID=UTC:20260224T090000
DTEND;TZID=UTC:20260224T103000
DTSTAMP:20260419T172049
CREATED:20260209T191827Z
LAST-MODIFIED:20260209T191827Z
UID:10000691-1771923600-1771929000@employindy.org
SUMMARY:Coffee Connections - WorkOne Indy Job Club
DESCRIPTION:Join Anthem and various healthcare partners/providers for a hiring event focused on careers in healthcare.								\n				\n				\n				\n							\n			\n		\n						\n				\n					\n				\n		\n					\n				\n				\n									\n					\n						\n									View Event Flyer
URL:https://employindy.org/event/coffee-connections-workone-indy-job-club/2026-02-24/
LOCATION:WorkOne Indy\, 4410 Shadeland Ave\, Indianapolis\, IN\, 46226\, United States
CATEGORIES:WorkOne Workshops
ATTACH;FMTTYPE=image/jpeg:https://employindy.org/wp-content/uploads/2026/02/DSC08850-1.jpg
ORGANIZER;CN="WorkOne Indy":MAILTO:4410 N Shadeland Ave, Indianapolis, IN 46226
END:VEVENT
BEGIN:VEVENT
DTSTART;TZID=UTC:20260224T090000
DTEND;TZID=UTC:20260224T103000
DTSTAMP:20260419T172049
CREATED:20260209T194623Z
LAST-MODIFIED:20260209T194623Z
UID:10000727-1771923600-1771929000@employindy.org
SUMMARY:WorkKeys Skills Success: Assessment Prep
DESCRIPTION:Join Anthem and various healthcare partners/providers for a hiring event focused on careers in healthcare.								\n				\n				\n				\n							\n			\n		\n						\n				\n					\n				\n		\n					\n				\n				\n									\n					\n						\n									View Event Flyer
URL:https://employindy.org/event/workkeys-skills-success-assessment-prep/2026-02-24/
LOCATION:WorkOne Indy\, 4410 Shadeland Ave\, Indianapolis\, IN\, 46226\, United States
CATEGORIES:WorkOne Workshops
ATTACH;FMTTYPE=image/jpeg:https://employindy.org/wp-content/uploads/2026/02/WorkKeys_banner.jpg
ORGANIZER;CN="WorkOne Indy":MAILTO:4410 N Shadeland Ave, Indianapolis, IN 46226
END:VEVENT
BEGIN:VEVENT
DTSTART;TZID=UTC:20260224T103000
DTEND;TZID=UTC:20260224T120000
DTSTAMP:20260419T172049
CREATED:20260209T185621Z
LAST-MODIFIED:20260209T185621Z
UID:10000477-1771929000-1771934400@employindy.org
SUMMARY:WorkKeys Talent & Fit
DESCRIPTION:Join Anthem and various healthcare partners/providers for a hiring event focused on careers in healthcare.								\n				\n				\n				\n							\n			\n		\n						\n				\n					\n				\n		\n					\n				\n				\n									\n					\n						\n									View Event Flyer
URL:https://employindy.org/event/workkeys-talent-fit/2026-02-24/
LOCATION:WorkOne Indy\, 4410 Shadeland Ave\, Indianapolis\, IN\, 46226\, United States
CATEGORIES:WorkOne Workshops
ATTACH;FMTTYPE=image/jpeg:https://employindy.org/wp-content/uploads/2026/02/WorkKeys_banner.jpg
ORGANIZER;CN="WorkOne Indy":MAILTO:4410 N Shadeland Ave, Indianapolis, IN 46226
END:VEVENT
BEGIN:VEVENT
DTSTART;TZID=UTC:20260224T140000
DTEND;TZID=UTC:20260224T153000
DTSTAMP:20260419T172049
CREATED:20260205T210417Z
LAST-MODIFIED:20260205T210417Z
UID:10000331-1771941600-1771947000@employindy.org
SUMMARY:Job Search Strategies
DESCRIPTION:Join Anthem and various healthcare partners/providers for a hiring event focused on careers in healthcare.								\n				\n				\n				\n							\n			\n		\n						\n				\n					\n				\n		\n					\n				\n				\n									\n					\n						\n									View Event Flyer
URL:https://employindy.org/event/job-search-strategies-3/
LOCATION:IN
CATEGORIES:WorkOne Workshops
ATTACH;FMTTYPE=image/jpeg:https://employindy.org/wp-content/uploads/2026/02/DSC00032_crop.jpg
END:VEVENT
BEGIN:VEVENT
DTSTART;TZID=UTC:20260224T140000
DTEND;TZID=UTC:20260224T153000
DTSTAMP:20260419T172049
CREATED:20260206T213654Z
LAST-MODIFIED:20260206T213654Z
UID:10000394-1771941600-1771947000@employindy.org
SUMMARY:Creating A Career Roadmap
DESCRIPTION:Join Anthem and various healthcare partners/providers for a hiring event focused on careers in healthcare.								\n				\n				\n				\n							\n			\n		\n						\n				\n					\n				\n		\n					\n				\n				\n									\n					\n						\n									View Event Flyer
URL:https://employindy.org/event/creating-a-career-roadmap-3/
LOCATION:WorkOne Indy\, 4410 Shadeland Ave\, Indianapolis\, IN\, 46226\, United States
CATEGORIES:WorkOne Workshops
ATTACH;FMTTYPE=image/jpeg:https://employindy.org/wp-content/uploads/2026/02/pexels-geojango-maps-50965933-7663519-scaled-e1770413693494.jpg
ORGANIZER;CN="WorkOne Indy":MAILTO:4410 N Shadeland Ave, Indianapolis, IN 46226
END:VEVENT
END:VCALENDAR