BEGIN:VCALENDAR
VERSION:2.0
PRODID:-//EmployIndy - ECPv6.15.17//NONSGML v1.0//EN
CALSCALE:GREGORIAN
METHOD:PUBLISH
X-ORIGINAL-URL:https://employindy.org
X-WR-CALDESC:Events for EmployIndy
REFRESH-INTERVAL;VALUE=DURATION:PT1H
X-Robots-Tag:noindex
X-PUBLISHED-TTL:PT1H
BEGIN:VTIMEZONE
TZID:UTC
BEGIN:STANDARD
TZOFFSETFROM:+0000
TZOFFSETTO:+0000
TZNAME:UTC
DTSTART:20250101T000000
END:STANDARD
END:VTIMEZONE
BEGIN:VEVENT
DTSTART;TZID=UTC:20260406T083000
DTEND;TZID=UTC:20260406T100000
DTSTAMP:20260419T174239
CREATED:20260209T191048Z
LAST-MODIFIED:20260209T191048Z
UID:10000519-1775464200-1775469600@employindy.org
SUMMARY:WorkKeys Career Readiness Assessment for All Job Seekers
DESCRIPTION:Join Anthem and various healthcare partners/providers for a hiring event focused on careers in healthcare.								\n				\n				\n				\n							\n			\n		\n						\n				\n					\n				\n		\n					\n				\n				\n									\n					\n						\n									View Event Flyer
URL:https://employindy.org/event/workkeys-career-readiness-assessment-for-all-job-seekers/2026-04-06/
LOCATION:WorkOne Indy\, 4410 Shadeland Ave\, Indianapolis\, IN\, 46226\, United States
CATEGORIES:WorkOne Workshops
ATTACH;FMTTYPE=image/jpeg:https://employindy.org/wp-content/uploads/2026/02/WorkKeys_banner.jpg
ORGANIZER;CN="WorkOne Indy":MAILTO:4410 N Shadeland Ave, Indianapolis, IN 46226
END:VEVENT
BEGIN:VEVENT
DTSTART;TZID=UTC:20260401T110000
DTEND;TZID=UTC:20260401T140000
DTSTAMP:20260419T174239
CREATED:20260327T182324Z
LAST-MODIFIED:20260327T182324Z
UID:10002849-1775041200-1775052000@employindy.org
SUMMARY:Wednesdays @ WorkOne Hiring Event
DESCRIPTION:Join Anthem and various healthcare partners/providers for a hiring event focused on careers in healthcare.								\n				\n				\n				\n							\n			\n		\n						\n				\n					\n				\n		\n					\n				\n				\n									\n					\n						\n									View Event Flyer
URL:https://employindy.org/event/wednesdays-workone-hiring-event-10/
LOCATION:WorkOne Career Services\, 4410 N Shadeland Ave.\, Indianapolis\, IN\, 46226\, United States
CATEGORIES:Hiring/Job Fair,In-Person
ATTACH;FMTTYPE=image/jpeg:https://employindy.org/wp-content/uploads/2025/09/5-WOI-Vesta-Family-scaled-2.jpg
ORGANIZER;CN="WorkOne Indy":MAILTO:4410 N Shadeland Ave, Indianapolis, IN 46226
END:VEVENT
BEGIN:VEVENT
DTSTART;TZID=UTC:20260331T140000
DTEND;TZID=UTC:20260331T153000
DTSTAMP:20260419T174239
CREATED:20260206T213946Z
LAST-MODIFIED:20260206T213946Z
UID:10000399-1774965600-1774971000@employindy.org
SUMMARY:Creating A Career Roadmap
DESCRIPTION:Join Anthem and various healthcare partners/providers for a hiring event focused on careers in healthcare.								\n				\n				\n				\n							\n			\n		\n						\n				\n					\n				\n		\n					\n				\n				\n									\n					\n						\n									View Event Flyer
URL:https://employindy.org/event/creating-a-career-roadmap-8/
LOCATION:WorkOne Indy\, 4410 Shadeland Ave\, Indianapolis\, IN\, 46226\, United States
CATEGORIES:WorkOne Workshops
ATTACH;FMTTYPE=image/jpeg:https://employindy.org/wp-content/uploads/2026/02/pexels-geojango-maps-50965933-7663519-scaled-e1770413693494.jpg
ORGANIZER;CN="WorkOne Indy":MAILTO:4410 N Shadeland Ave, Indianapolis, IN 46226
END:VEVENT
BEGIN:VEVENT
DTSTART;TZID=UTC:20260331T140000
DTEND;TZID=UTC:20260331T153000
DTSTAMP:20260419T174239
CREATED:20260205T210807Z
LAST-MODIFIED:20260205T210807Z
UID:10000336-1774965600-1774971000@employindy.org
SUMMARY:Job Search Strategies
DESCRIPTION:Join Anthem and various healthcare partners/providers for a hiring event focused on careers in healthcare.								\n				\n				\n				\n							\n			\n		\n						\n				\n					\n				\n		\n					\n				\n				\n									\n					\n						\n									View Event Flyer
URL:https://employindy.org/event/job-search-strategies-8/
LOCATION:IN
CATEGORIES:WorkOne Workshops
ATTACH;FMTTYPE=image/jpeg:https://employindy.org/wp-content/uploads/2026/02/DSC00032_crop.jpg
END:VEVENT
BEGIN:VEVENT
DTSTART;TZID=UTC:20260331T103000
DTEND;TZID=UTC:20260331T120000
DTSTAMP:20260419T174239
CREATED:20260209T185621Z
LAST-MODIFIED:20260209T185621Z
UID:10000482-1774953000-1774958400@employindy.org
SUMMARY:WorkKeys Talent & Fit
DESCRIPTION:Join Anthem and various healthcare partners/providers for a hiring event focused on careers in healthcare.								\n				\n				\n				\n							\n			\n		\n						\n				\n					\n				\n		\n					\n				\n				\n									\n					\n						\n									View Event Flyer
URL:https://employindy.org/event/workkeys-talent-fit/2026-03-31/
LOCATION:WorkOne Indy\, 4410 Shadeland Ave\, Indianapolis\, IN\, 46226\, United States
CATEGORIES:WorkOne Workshops
ATTACH;FMTTYPE=image/jpeg:https://employindy.org/wp-content/uploads/2026/02/WorkKeys_banner.jpg
ORGANIZER;CN="WorkOne Indy":MAILTO:4410 N Shadeland Ave, Indianapolis, IN 46226
END:VEVENT
BEGIN:VEVENT
DTSTART;TZID=UTC:20260331T090000
DTEND;TZID=UTC:20260331T103000
DTSTAMP:20260419T174239
CREATED:20260209T194623Z
LAST-MODIFIED:20260209T194623Z
UID:10000732-1774947600-1774953000@employindy.org
SUMMARY:WorkKeys Skills Success: Assessment Prep
DESCRIPTION:Join Anthem and various healthcare partners/providers for a hiring event focused on careers in healthcare.								\n				\n				\n				\n							\n			\n		\n						\n				\n					\n				\n		\n					\n				\n				\n									\n					\n						\n									View Event Flyer
URL:https://employindy.org/event/workkeys-skills-success-assessment-prep/2026-03-31/
LOCATION:WorkOne Indy\, 4410 Shadeland Ave\, Indianapolis\, IN\, 46226\, United States
CATEGORIES:WorkOne Workshops
ATTACH;FMTTYPE=image/jpeg:https://employindy.org/wp-content/uploads/2026/02/WorkKeys_banner.jpg
ORGANIZER;CN="WorkOne Indy":MAILTO:4410 N Shadeland Ave, Indianapolis, IN 46226
END:VEVENT
BEGIN:VEVENT
DTSTART;TZID=UTC:20260331T090000
DTEND;TZID=UTC:20260331T103000
DTSTAMP:20260419T174239
CREATED:20260209T191827Z
LAST-MODIFIED:20260209T191827Z
UID:10000696-1774947600-1774953000@employindy.org
SUMMARY:Coffee Connections - WorkOne Indy Job Club
DESCRIPTION:Join Anthem and various healthcare partners/providers for a hiring event focused on careers in healthcare.								\n				\n				\n				\n							\n			\n		\n						\n				\n					\n				\n		\n					\n				\n				\n									\n					\n						\n									View Event Flyer
URL:https://employindy.org/event/coffee-connections-workone-indy-job-club/2026-03-31/
LOCATION:WorkOne Indy\, 4410 Shadeland Ave\, Indianapolis\, IN\, 46226\, United States
CATEGORIES:WorkOne Workshops
ATTACH;FMTTYPE=image/jpeg:https://employindy.org/wp-content/uploads/2026/02/DSC08850-1.jpg
ORGANIZER;CN="WorkOne Indy":MAILTO:4410 N Shadeland Ave, Indianapolis, IN 46226
END:VEVENT
BEGIN:VEVENT
DTSTART;TZID=UTC:20260331T083000
DTEND;TZID=UTC:20260331T100000
DTSTAMP:20260419T174239
CREATED:20260209T191235Z
LAST-MODIFIED:20260209T191235Z
UID:10000636-1774945800-1774951200@employindy.org
SUMMARY:WorkKeys Career Readiness Assessment for All Job Seekers
DESCRIPTION:Join Anthem and various healthcare partners/providers for a hiring event focused on careers in healthcare.								\n				\n				\n				\n							\n			\n		\n						\n				\n					\n				\n		\n					\n				\n				\n									\n					\n						\n									View Event Flyer
URL:https://employindy.org/event/workkeys-career-readiness-assessment-for-all-job-seekers-2/2026-03-31/
LOCATION:WorkOne Indy\, 4410 Shadeland Ave\, Indianapolis\, IN\, 46226\, United States
CATEGORIES:WorkOne Workshops
ATTACH;FMTTYPE=image/jpeg:https://employindy.org/wp-content/uploads/2026/02/WorkKeys_banner.jpg
ORGANIZER;CN="WorkOne Indy":MAILTO:4410 N Shadeland Ave, Indianapolis, IN 46226
END:VEVENT
BEGIN:VEVENT
DTSTART;TZID=UTC:20260330T140000
DTEND;TZID=UTC:20260330T153000
DTSTAMP:20260419T174239
CREATED:20260209T193923Z
LAST-MODIFIED:20260302T200538Z
UID:10000711-1774879200-1774884600@employindy.org
SUMMARY:Planning For Training Success
DESCRIPTION:Join Anthem and various healthcare partners/providers for a hiring event focused on careers in healthcare.								\n				\n				\n				\n							\n			\n		\n						\n				\n					\n				\n		\n					\n				\n				\n									\n					\n						\n									View Event Flyer
URL:https://employindy.org/event/planning-for-training-success/2026-03-30/
LOCATION:WorkOne Indy\, 4410 Shadeland Ave\, Indianapolis\, IN\, 46226\, United States
CATEGORIES:WorkOne Workshops
ATTACH;FMTTYPE=image/jpeg:https://employindy.org/wp-content/uploads/2026/02/DSC08767-e1770665747708.jpg
ORGANIZER;CN="WorkOne Indy":MAILTO:4410 N Shadeland Ave, Indianapolis, IN 46226
END:VEVENT
BEGIN:VEVENT
DTSTART;TZID=UTC:20260330T140000
DTEND;TZID=UTC:20260330T153000
DTSTAMP:20260419T174239
CREATED:20260205T203903Z
LAST-MODIFIED:20260205T203903Z
UID:10000314-1774879200-1774884600@employindy.org
SUMMARY:WorkOne Indy WIOA Orientation (VIRTUAL ONLY)
DESCRIPTION:Join Anthem and various healthcare partners/providers for a hiring event focused on careers in healthcare.								\n				\n				\n				\n							\n			\n		\n						\n				\n					\n				\n		\n					\n				\n				\n									\n					\n						\n									View Event Flyer
URL:https://employindy.org/event/workone-indy-wioa-orientation-virtual-only-8/
LOCATION:WorkOne Indy\, 4410 Shadeland Ave\, Indianapolis\, IN\, 46226\, United States
CATEGORIES:WorkOne Workshops
ATTACH;FMTTYPE=image/jpeg:https://employindy.org/wp-content/uploads/2025/12/DSC06961-scaled.jpg
ORGANIZER;CN="WorkOne Indy":MAILTO:4410 N Shadeland Ave, Indianapolis, IN 46226
END:VEVENT
BEGIN:VEVENT
DTSTART;TZID=UTC:20260330T110000
DTEND;TZID=UTC:20260330T123000
DTSTAMP:20260419T174239
CREATED:20260206T215039Z
LAST-MODIFIED:20260218T162025Z
UID:10000407-1774868400-1774873800@employindy.org
SUMMARY:Basic Computer Skills
DESCRIPTION:Join Anthem and various healthcare partners/providers for a hiring event focused on careers in healthcare.								\n				\n				\n				\n							\n			\n		\n						\n				\n					\n				\n		\n					\n				\n				\n									\n					\n						\n									View Event Flyer
URL:https://employindy.org/event/basic-computer-skills-8/
LOCATION:WorkOne Indy\, 4410 Shadeland Ave\, Indianapolis\, IN\, 46226\, United States
CATEGORIES:WorkOne Workshops
ATTACH;FMTTYPE=image/jpeg:https://employindy.org/wp-content/uploads/2026/02/pexels-mikhail-nilov-9159041-scaled-e1770414233630.jpg
ORGANIZER;CN="WorkOne Indy":MAILTO:4410 N Shadeland Ave, Indianapolis, IN 46226
END:VEVENT
BEGIN:VEVENT
DTSTART;TZID=UTC:20260330T090000
DTEND;TZID=UTC:20260330T103000
DTSTAMP:20260419T174239
CREATED:20260204T195832Z
LAST-MODIFIED:20260204T212135Z
UID:10000299-1774861200-1774866600@employindy.org
SUMMARY:WorkOne Indy WIOA Orientation
DESCRIPTION:Join Anthem and various healthcare partners/providers for a hiring event focused on careers in healthcare.								\n				\n				\n				\n							\n			\n		\n						\n				\n					\n				\n		\n					\n				\n				\n									\n					\n						\n									View Event Flyer
URL:https://employindy.org/event/workone-indy-wioa-orientation-12/
LOCATION:WorkOne Indy\, 4410 Shadeland Ave\, Indianapolis\, IN\, 46226\, United States
CATEGORIES:WorkOne Workshops
ATTACH;FMTTYPE=image/jpeg:https://employindy.org/wp-content/uploads/2025/12/DSC06961-scaled.jpg
ORGANIZER;CN="WorkOne Indy":MAILTO:4410 N Shadeland Ave, Indianapolis, IN 46226
END:VEVENT
BEGIN:VEVENT
DTSTART;TZID=UTC:20260330T083000
DTEND;TZID=UTC:20260330T100000
DTSTAMP:20260419T174239
CREATED:20260209T191048Z
LAST-MODIFIED:20260209T191048Z
UID:10000518-1774859400-1774864800@employindy.org
SUMMARY:WorkKeys Career Readiness Assessment for All Job Seekers
DESCRIPTION:Join Anthem and various healthcare partners/providers for a hiring event focused on careers in healthcare.								\n				\n				\n				\n							\n			\n		\n						\n				\n					\n				\n		\n					\n				\n				\n									\n					\n						\n									View Event Flyer
URL:https://employindy.org/event/workkeys-career-readiness-assessment-for-all-job-seekers/2026-03-30/
LOCATION:WorkOne Indy\, 4410 Shadeland Ave\, Indianapolis\, IN\, 46226\, United States
CATEGORIES:WorkOne Workshops
ATTACH;FMTTYPE=image/jpeg:https://employindy.org/wp-content/uploads/2026/02/WorkKeys_banner.jpg
ORGANIZER;CN="WorkOne Indy":MAILTO:4410 N Shadeland Ave, Indianapolis, IN 46226
END:VEVENT
BEGIN:VEVENT
DTSTART;TZID=UTC:20260327T133000
DTEND;TZID=UTC:20260327T150000
DTSTAMP:20260419T174239
CREATED:20260209T190233Z
LAST-MODIFIED:20260209T190233Z
UID:10000511-1774618200-1774623600@employindy.org
SUMMARY:WorkKeys Talent & Fit
DESCRIPTION:Join Anthem and various healthcare partners/providers for a hiring event focused on careers in healthcare.								\n				\n				\n				\n							\n			\n		\n						\n				\n					\n				\n		\n					\n				\n				\n									\n					\n						\n									View Event Flyer
URL:https://employindy.org/event/workkeys-talent-fit-3/2026-03-27/
LOCATION:WorkOne Indy\, 4410 Shadeland Ave\, Indianapolis\, IN\, 46226\, United States
CATEGORIES:WorkOne Workshops
ATTACH;FMTTYPE=image/jpeg:https://employindy.org/wp-content/uploads/2026/02/WorkKeys_banner.jpg
ORGANIZER;CN="WorkOne Indy":MAILTO:4410 N Shadeland Ave, Indianapolis, IN 46226
END:VEVENT
BEGIN:VEVENT
DTSTART;TZID=UTC:20260327T110000
DTEND;TZID=UTC:20260327T140000
DTSTAMP:20260419T174239
CREATED:20260309T154023Z
LAST-MODIFIED:20260312T135408Z
UID:10002847-1774609200-1774620000@employindy.org
SUMMARY:Veterans Hiring Event
DESCRIPTION:Join Anthem and various healthcare partners/providers for a hiring event focused on careers in healthcare.								\n				\n				\n				\n							\n			\n		\n						\n				\n					\n				\n		\n					\n				\n				\n									\n					\n						\n									View Event Flyer
URL:https://employindy.org/event/veterans-hiring-event/
LOCATION:WorkOne Indy\, 4410 Shadeland Ave\, Indianapolis\, IN\, 46226\, United States
CATEGORIES:Hiring/Job Fair,In-Person
ATTACH;FMTTYPE=image/png:https://employindy.org/wp-content/uploads/2026/03/WOI_Veterans-Hiring-Event_TV-Graphic_021726-scaled.png
ORGANIZER;CN="WorkOne Indy":MAILTO:4410 N Shadeland Ave, Indianapolis, IN 46226
END:VEVENT
BEGIN:VEVENT
DTSTART;TZID=UTC:20260327T110000
DTEND;TZID=UTC:20260327T123000
DTSTAMP:20260419T174239
CREATED:20260206T205128Z
LAST-MODIFIED:20260206T205128Z
UID:10000372-1774609200-1774614600@employindy.org
SUMMARY:Social Media & Networking To Find Employment
DESCRIPTION:Join Anthem and various healthcare partners/providers for a hiring event focused on careers in healthcare.								\n				\n				\n				\n							\n			\n		\n						\n				\n					\n				\n		\n					\n				\n				\n									\n					\n						\n									View Event Flyer
URL:https://employindy.org/event/social-media-networking-to-find-employment-7/
LOCATION:WorkOne Indy\, 4410 Shadeland Ave\, Indianapolis\, IN\, 46226\, United States
CATEGORIES:WorkOne Workshops
ATTACH;FMTTYPE=image/jpeg:https://employindy.org/wp-content/uploads/2026/02/AdobeStock_862381115-scaled.jpeg
ORGANIZER;CN="WorkOne Indy":MAILTO:4410 N Shadeland Ave, Indianapolis, IN 46226
END:VEVENT
BEGIN:VEVENT
DTSTART;TZID=UTC:20260327T090000
DTEND;TZID=UTC:20260327T103000
DTSTAMP:20260419T174239
CREATED:20260205T212243Z
LAST-MODIFIED:20260205T213244Z
UID:10000350-1774602000-1774607400@employindy.org
SUMMARY:Creating Your Resume
DESCRIPTION:Join Anthem and various healthcare partners/providers for a hiring event focused on careers in healthcare.								\n				\n				\n				\n							\n			\n		\n						\n				\n					\n				\n		\n					\n				\n				\n									\n					\n						\n									View Event Flyer
URL:https://employindy.org/event/creating-your-resume-14/
LOCATION:WorkOne Indy\, 4410 Shadeland Ave\, Indianapolis\, IN\, 46226\, United States
CATEGORIES:WorkOne Workshops
ATTACH;FMTTYPE=image/jpeg:https://employindy.org/wp-content/uploads/2026/02/DSC08391_crop.jpg
ORGANIZER;CN="WorkOne Indy":MAILTO:4410 N Shadeland Ave, Indianapolis, IN 46226
END:VEVENT
BEGIN:VEVENT
DTSTART;TZID=UTC:20260327T083000
DTEND;TZID=UTC:20260327T100000
DTSTAMP:20260419T174239
CREATED:20260209T185309Z
LAST-MODIFIED:20260209T185351Z
UID:10000474-1774600200-1774605600@employindy.org
SUMMARY:WorkKeys for Unions Only
DESCRIPTION:Join Anthem and various healthcare partners/providers for a hiring event focused on careers in healthcare.								\n				\n				\n				\n							\n			\n		\n						\n				\n					\n				\n		\n					\n				\n				\n									\n					\n						\n									View Event Flyer
URL:https://employindy.org/event/workkeys-for-unions-only/2026-03-27/
LOCATION:WorkOne Indy\, 4410 Shadeland Ave\, Indianapolis\, IN\, 46226\, United States
CATEGORIES:WorkOne Workshops
ATTACH;FMTTYPE=image/jpeg:https://employindy.org/wp-content/uploads/2026/02/WorkKeys_banner.jpg
ORGANIZER;CN="WorkOne Indy":MAILTO:4410 N Shadeland Ave, Indianapolis, IN 46226
END:VEVENT
BEGIN:VEVENT
DTSTART;TZID=UTC:20260326T130000
DTEND;TZID=UTC:20260326T143000
DTSTAMP:20260419T174239
CREATED:20260209T192737Z
LAST-MODIFIED:20260302T215426Z
UID:10000704-1774530000-1774535400@employindy.org
SUMMARY:Intro To Labor Market Information
DESCRIPTION:Join Anthem and various healthcare partners/providers for a hiring event focused on careers in healthcare.								\n				\n				\n				\n							\n			\n		\n						\n				\n					\n				\n		\n					\n				\n				\n									\n					\n						\n									View Event Flyer
URL:https://employindy.org/event/intro-to-lmi/2026-03-26/
LOCATION:WorkOne Indy\, 4410 Shadeland Ave\, Indianapolis\, IN\, 46226\, United States
CATEGORIES:WorkOne Workshops
ATTACH;FMTTYPE=image/jpeg:https://employindy.org/wp-content/uploads/2026/02/pexels-towfiqu-barbhuiya-3440682-11333721-scaled-e1770665226572.jpg
ORGANIZER;CN="WorkOne Indy":MAILTO:4410 N Shadeland Ave, Indianapolis, IN 46226
END:VEVENT
BEGIN:VEVENT
DTSTART;TZID=UTC:20260326T130000
DTEND;TZID=UTC:20260326T143000
DTSTAMP:20260419T174239
CREATED:20260206T212642Z
LAST-MODIFIED:20260206T212642Z
UID:10000391-1774530000-1774535400@employindy.org
SUMMARY:New Job - Set Up for Success
DESCRIPTION:Join Anthem and various healthcare partners/providers for a hiring event focused on careers in healthcare.								\n				\n				\n				\n							\n			\n		\n						\n				\n					\n				\n		\n					\n				\n				\n									\n					\n						\n									View Event Flyer
URL:https://employindy.org/event/new-job-set-up-for-success-11/
LOCATION:WorkOne Indy\, 4410 Shadeland Ave\, Indianapolis\, IN\, 46226\, United States
CATEGORIES:WorkOne Workshops
ATTACH;FMTTYPE=image/jpeg:https://employindy.org/wp-content/uploads/2026/02/pexels-lara-jameson-9363125-scaled-e1770412702774.jpg
ORGANIZER;CN="WorkOne Indy":MAILTO:4410 N Shadeland Ave, Indianapolis, IN 46226
END:VEVENT
BEGIN:VEVENT
DTSTART;TZID=UTC:20260326T130000
DTEND;TZID=UTC:20260326T143000
DTSTAMP:20260419T174239
CREATED:20260205T211729Z
LAST-MODIFIED:20260205T213540Z
UID:10000343-1774530000-1774535400@employindy.org
SUMMARY:Creating Your Resume
DESCRIPTION:Join Anthem and various healthcare partners/providers for a hiring event focused on careers in healthcare.								\n				\n				\n				\n							\n			\n		\n						\n				\n					\n				\n		\n					\n				\n				\n									\n					\n						\n									View Event Flyer
URL:https://employindy.org/event/creating-your-resume-7/
LOCATION:WorkOne Indy\, 4410 Shadeland Ave\, Indianapolis\, IN\, 46226\, United States
CATEGORIES:WorkOne Workshops
ATTACH;FMTTYPE=image/jpeg:https://employindy.org/wp-content/uploads/2026/02/DSC08391_crop.jpg
ORGANIZER;CN="WorkOne Indy":MAILTO:4410 N Shadeland Ave, Indianapolis, IN 46226
END:VEVENT
BEGIN:VEVENT
DTSTART;TZID=UTC:20260326T110000
DTEND;TZID=UTC:20260326T123000
DTSTAMP:20260419T174239
CREATED:20260209T194805Z
LAST-MODIFIED:20260209T194805Z
UID:10000747-1774522800-1774528200@employindy.org
SUMMARY:WorkKeys Skills Success: Assessment Prep
DESCRIPTION:Join Anthem and various healthcare partners/providers for a hiring event focused on careers in healthcare.								\n				\n				\n				\n							\n			\n		\n						\n				\n					\n				\n		\n					\n				\n				\n									\n					\n						\n									View Event Flyer
URL:https://employindy.org/event/workkeys-skills-success-assessment-prep-2/2026-03-26/
LOCATION:WorkOne Indy\, 4410 Shadeland Ave\, Indianapolis\, IN\, 46226\, United States
CATEGORIES:WorkOne Workshops
ATTACH;FMTTYPE=image/jpeg:https://employindy.org/wp-content/uploads/2026/02/WorkKeys_banner.jpg
ORGANIZER;CN="WorkOne Indy":MAILTO:4410 N Shadeland Ave, Indianapolis, IN 46226
END:VEVENT
BEGIN:VEVENT
DTSTART;TZID=UTC:20260326T110000
DTEND;TZID=UTC:20260326T123000
DTSTAMP:20260419T174239
CREATED:20260205T205338Z
LAST-MODIFIED:20260205T205338Z
UID:10000328-1774522800-1774528200@employindy.org
SUMMARY:WorkOne Indy WIOA Orientation
DESCRIPTION:Join Anthem and various healthcare partners/providers for a hiring event focused on careers in healthcare.								\n				\n				\n				\n							\n			\n		\n						\n				\n					\n				\n		\n					\n				\n				\n									\n					\n						\n									View Event Flyer
URL:https://employindy.org/event/workone-indy-wioa-orientation-26/
LOCATION:WorkOne Indy\, 4410 Shadeland Ave\, Indianapolis\, IN\, 46226\, United States
CATEGORIES:WorkOne Workshops
ATTACH;FMTTYPE=image/jpeg:https://employindy.org/wp-content/uploads/2025/12/DSC06961-scaled.jpg
ORGANIZER;CN="WorkOne Indy":MAILTO:4410 N Shadeland Ave, Indianapolis, IN 46226
END:VEVENT
BEGIN:VEVENT
DTSTART;TZID=UTC:20260326T083000
DTEND;TZID=UTC:20260326T100000
DTSTAMP:20260419T174239
CREATED:20260209T185923Z
LAST-MODIFIED:20260209T190101Z
UID:10000497-1774513800-1774519200@employindy.org
SUMMARY:WorkKeys Talent & Fit
DESCRIPTION:Join Anthem and various healthcare partners/providers for a hiring event focused on careers in healthcare.								\n				\n				\n				\n							\n			\n		\n						\n				\n					\n				\n		\n					\n				\n				\n									\n					\n						\n									View Event Flyer
URL:https://employindy.org/event/workkeys-talent-fit-2/2026-03-26/
LOCATION:WorkOne Indy\, 4410 Shadeland Ave\, Indianapolis\, IN\, 46226\, United States
CATEGORIES:WorkOne Workshops
ATTACH;FMTTYPE=image/jpeg:https://employindy.org/wp-content/uploads/2026/02/WorkKeys_banner.jpg
ORGANIZER;CN="WorkOne Indy":MAILTO:4410 N Shadeland Ave, Indianapolis, IN 46226
END:VEVENT
BEGIN:VEVENT
DTSTART;TZID=UTC:20260325T140000
DTEND;TZID=UTC:20260325T153000
DTSTAMP:20260419T174239
CREATED:20260211T174748Z
LAST-MODIFIED:20260218T191730Z
UID:10000414-1774447200-1774452600@employindy.org
SUMMARY:Succeeding in the Workplace
DESCRIPTION:Join Anthem and various healthcare partners/providers for a hiring event focused on careers in healthcare.								\n				\n				\n				\n							\n			\n		\n						\n				\n					\n				\n		\n					\n				\n				\n									\n					\n						\n									View Event Flyer
URL:https://employindy.org/event/succeeding-in-the-workplace-2/2026-03-25/
LOCATION:WorkOne Indy\, 4410 Shadeland Ave\, Indianapolis\, IN\, 46226\, United States
CATEGORIES:WorkOne Workshops
ATTACH;FMTTYPE=image/jpeg:https://employindy.org/wp-content/uploads/2026/02/DSC07845-scaled-e1770656671568.jpg
ORGANIZER;CN="WorkOne Indy":MAILTO:4410 N Shadeland Ave, Indianapolis, IN 46226
END:VEVENT
BEGIN:VEVENT
DTSTART;TZID=UTC:20260325T140000
DTEND;TZID=UTC:20260325T153000
DTSTAMP:20260419T174239
CREATED:20260209T195724Z
LAST-MODIFIED:20260209T195724Z
UID:10000754-1774447200-1774452600@employindy.org
SUMMARY:Exploring Training Options
DESCRIPTION:Join Anthem and various healthcare partners/providers for a hiring event focused on careers in healthcare.								\n				\n				\n				\n							\n			\n		\n						\n				\n					\n				\n		\n					\n				\n				\n									\n					\n						\n									View Event Flyer
URL:https://employindy.org/event/exploring-training-options/2026-03-25/
LOCATION:WorkOne Indy\, 4410 Shadeland Ave\, Indianapolis\, IN\, 46226\, United States
CATEGORIES:WorkOne Workshops
ATTACH;FMTTYPE=image/jpeg:https://employindy.org/wp-content/uploads/2026/02/DSC06995-1-scaled-e1770666981733.jpg
ORGANIZER;CN="WorkOne Indy":MAILTO:4410 N Shadeland Ave, Indianapolis, IN 46226
END:VEVENT
BEGIN:VEVENT
DTSTART;TZID=UTC:20260325T140000
DTEND;TZID=UTC:20260325T153000
DTSTAMP:20260419T174239
CREATED:20260205T204659Z
LAST-MODIFIED:20260205T204659Z
UID:10000321-1774447200-1774452600@employindy.org
SUMMARY:WorkOne Indy WIOA Orientation
DESCRIPTION:Join Anthem and various healthcare partners/providers for a hiring event focused on careers in healthcare.								\n				\n				\n				\n							\n			\n		\n						\n				\n					\n				\n		\n					\n				\n				\n									\n					\n						\n									View Event Flyer
URL:https://employindy.org/event/workone-indy-wioa-orientation-19/
LOCATION:WorkOne Indy\, 4410 Shadeland Ave\, Indianapolis\, IN\, 46226\, United States
CATEGORIES:WorkOne Workshops
ATTACH;FMTTYPE=image/jpeg:https://employindy.org/wp-content/uploads/2025/12/DSC06961-scaled.jpg
ORGANIZER;CN="WorkOne Indy":MAILTO:4410 N Shadeland Ave, Indianapolis, IN 46226
END:VEVENT
BEGIN:VEVENT
DTSTART;TZID=UTC:20260325T110000
DTEND;TZID=UTC:20260325T140000
DTSTAMP:20260419T174239
CREATED:20260204T211056Z
LAST-MODIFIED:20260319T184815Z
UID:10000306-1774436400-1774447200@employindy.org
SUMMARY:Wednesdays @ WorkOne Hiring Event
DESCRIPTION:Join Anthem and various healthcare partners/providers for a hiring event focused on careers in healthcare.								\n				\n				\n				\n							\n			\n		\n						\n				\n					\n				\n		\n					\n				\n				\n									\n					\n						\n									View Event Flyer
URL:https://employindy.org/event/wednesdays-workone-hiring-event-9/
LOCATION:WorkOne Career Services\, 4410 N Shadeland Ave.\, Indianapolis\, IN\, 46226\, United States
CATEGORIES:Hiring/Job Fair,In-Person
ATTACH;FMTTYPE=image/jpeg:https://employindy.org/wp-content/uploads/2025/09/5-WOI-Vesta-Family-scaled-2.jpg
ORGANIZER;CN="WorkOne Indy":MAILTO:4410 N Shadeland Ave, Indianapolis, IN 46226
END:VEVENT
BEGIN:VEVENT
DTSTART;TZID=UTC:20260325T110000
DTEND;TZID=UTC:20260325T123000
DTSTAMP:20260419T174239
CREATED:20260209T194137Z
LAST-MODIFIED:20260302T200344Z
UID:10000724-1774436400-1774441800@employindy.org
SUMMARY:Planning For Training Success (VIRTUAL ONLY)
DESCRIPTION:Join Anthem and various healthcare partners/providers for a hiring event focused on careers in healthcare.								\n				\n				\n				\n							\n			\n		\n						\n				\n					\n				\n		\n					\n				\n				\n									\n					\n						\n									View Event Flyer
URL:https://employindy.org/event/planning-for-training-success-virtual-only/2026-03-25/
LOCATION:WorkOne Indy\, 4410 Shadeland Ave\, Indianapolis\, IN\, 46226\, United States
CATEGORIES:WorkOne Workshops
ATTACH;FMTTYPE=image/jpeg:https://employindy.org/wp-content/uploads/2026/02/DSC08767-e1770665747708.jpg
ORGANIZER;CN="WorkOne Indy":MAILTO:4410 N Shadeland Ave, Indianapolis, IN 46226
END:VEVENT
BEGIN:VEVENT
DTSTART;TZID=UTC:20260325T110000
DTEND;TZID=UTC:20260325T123000
DTSTAMP:20260419T174239
CREATED:20260205T215641Z
LAST-MODIFIED:20260205T215641Z
UID:10000357-1774436400-1774441800@employindy.org
SUMMARY:Building an Elevator Pitch to Market Yourself
DESCRIPTION:Join Anthem and various healthcare partners/providers for a hiring event focused on careers in healthcare.								\n				\n				\n				\n							\n			\n		\n						\n				\n					\n				\n		\n					\n				\n				\n									\n					\n						\n									View Event Flyer
URL:https://employindy.org/event/building-an-elevator-pitch-to-market-yourself-7/
LOCATION:WorkOne Indy\, 4410 Shadeland Ave\, Indianapolis\, IN\, 46226\, United States
CATEGORIES:WorkOne Workshops
ATTACH;FMTTYPE=image/jpeg:https://employindy.org/wp-content/uploads/2026/02/DSC07188_crop-scaled.jpg
ORGANIZER;CN="WorkOne Indy":MAILTO:4410 N Shadeland Ave, Indianapolis, IN 46226
END:VEVENT
END:VCALENDAR