BEGIN:VCALENDAR
VERSION:2.0
PRODID:-//EmployIndy - ECPv6.15.17//NONSGML v1.0//EN
CALSCALE:GREGORIAN
METHOD:PUBLISH
X-WR-CALNAME:EmployIndy
X-ORIGINAL-URL:https://employindy.org
X-WR-CALDESC:Events for EmployIndy
REFRESH-INTERVAL;VALUE=DURATION:PT1H
X-Robots-Tag:noindex
X-PUBLISHED-TTL:PT1H
BEGIN:VTIMEZONE
TZID:UTC
BEGIN:STANDARD
TZOFFSETFROM:+0000
TZOFFSETTO:+0000
TZNAME:UTC
DTSTART:20250101T000000
END:STANDARD
END:VTIMEZONE
BEGIN:VEVENT
DTSTART;TZID=UTC:20260518T083000
DTEND;TZID=UTC:20260518T100000
DTSTAMP:20260421T113257
CREATED:20260417T170035Z
LAST-MODIFIED:20260417T170035Z
UID:10003126-1779093000-1779098400@employindy.org
SUMMARY:WorkKeys Career Readiness Assessment for All Job Seekers
DESCRIPTION:Join Anthem and various healthcare partners/providers for a hiring event focused on careers in healthcare.								\n				\n				\n				\n							\n			\n		\n						\n				\n					\n				\n		\n					\n				\n				\n									\n					\n						\n									View Event Flyer
URL:https://employindy.org/event/workkeys-career-readiness-assessment-for-all-job-seekers-3/2026-05-18/
LOCATION:WorkOne Indy\, 4410 Shadeland Ave\, Indianapolis\, IN\, 46226\, United States
CATEGORIES:WorkOne Workshops
ATTACH;FMTTYPE=image/jpeg:https://employindy.org/wp-content/uploads/2026/02/WorkKeys_banner.jpg
ORGANIZER;CN="WorkOne Indy":MAILTO:4410 N Shadeland Ave, Indianapolis, IN 46226
END:VEVENT
BEGIN:VEVENT
DTSTART;TZID=UTC:20260518T083000
DTEND;TZID=UTC:20260518T100000
DTSTAMP:20260421T113257
CREATED:20260209T191048Z
LAST-MODIFIED:20260209T191048Z
UID:10000525-1779093000-1779098400@employindy.org
SUMMARY:WorkKeys Career Readiness Assessment for All Job Seekers
DESCRIPTION:Join Anthem and various healthcare partners/providers for a hiring event focused on careers in healthcare.								\n				\n				\n				\n							\n			\n		\n						\n				\n					\n				\n		\n					\n				\n				\n									\n					\n						\n									View Event Flyer
URL:https://employindy.org/event/workkeys-career-readiness-assessment-for-all-job-seekers/2026-05-18/
LOCATION:WorkOne Indy\, 4410 Shadeland Ave\, Indianapolis\, IN\, 46226\, United States
CATEGORIES:WorkOne Workshops
ATTACH;FMTTYPE=image/jpeg:https://employindy.org/wp-content/uploads/2026/02/WorkKeys_banner.jpg
ORGANIZER;CN="WorkOne Indy":MAILTO:4410 N Shadeland Ave, Indianapolis, IN 46226
END:VEVENT
BEGIN:VEVENT
DTSTART;TZID=UTC:20260513T140000
DTEND;TZID=UTC:20260513T153000
DTSTAMP:20260421T113257
CREATED:20260403T181843Z
LAST-MODIFIED:20260403T181843Z
UID:10002907-1778680800-1778686200@employindy.org
SUMMARY:Succeeding in the Workplace
DESCRIPTION:Join Anthem and various healthcare partners/providers for a hiring event focused on careers in healthcare.								\n				\n				\n				\n							\n			\n		\n						\n				\n					\n				\n		\n					\n				\n				\n									\n					\n						\n									View Event Flyer
URL:https://employindy.org/event/succeeding-in-the-workplace-4/2026-05-13/
LOCATION:WorkOne Indy\, 4410 Shadeland Ave\, Indianapolis\, IN\, 46226\, United States
CATEGORIES:WorkOne Workshops
ATTACH;FMTTYPE=image/jpeg:https://employindy.org/wp-content/uploads/2026/02/DSC07845-scaled-e1770656671568.jpg
ORGANIZER;CN="WorkOne Indy":MAILTO:4410 N Shadeland Ave, Indianapolis, IN 46226
END:VEVENT
BEGIN:VEVENT
DTSTART;TZID=UTC:20260513T110000
DTEND;TZID=UTC:20260513T140000
DTSTAMP:20260421T113257
CREATED:20260402T143215Z
LAST-MODIFIED:20260402T143215Z
UID:10002857-1778670000-1778680800@employindy.org
SUMMARY:Wednesdays @ WorkOne Hiring Event
DESCRIPTION:Join Anthem and various healthcare partners/providers for a hiring event focused on careers in healthcare.								\n				\n				\n				\n							\n			\n		\n						\n				\n					\n				\n		\n					\n				\n				\n									\n					\n						\n									View Event Flyer
URL:https://employindy.org/event/wednesdays-workone-hiring-event-16/
LOCATION:WorkOne Career Services\, 4410 N Shadeland Ave.\, Indianapolis\, IN\, 46226\, United States
CATEGORIES:Hiring/Job Fair,In-Person
ATTACH;FMTTYPE=image/jpeg:https://employindy.org/wp-content/uploads/2025/09/5-WOI-Vesta-Family-scaled-2.jpg
ORGANIZER;CN="WorkOne Indy":MAILTO:4410 N Shadeland Ave, Indianapolis, IN 46226
END:VEVENT
BEGIN:VEVENT
DTSTART;TZID=UTC:20260513T110000
DTEND;TZID=UTC:20260513T123000
DTSTAMP:20260421T113257
CREATED:20260409T164610Z
LAST-MODIFIED:20260409T164610Z
UID:10002942-1778670000-1778675400@employindy.org
SUMMARY:Planning For Training Success (VIRTUAL ONLY)
DESCRIPTION:Join Anthem and various healthcare partners/providers for a hiring event focused on careers in healthcare.								\n				\n				\n				\n							\n			\n		\n						\n				\n					\n				\n		\n					\n				\n				\n									\n					\n						\n									View Event Flyer
URL:https://employindy.org/event/planning-for-training-success-virtual-only-2/2026-05-13/
LOCATION:WorkOne Indy\, 4410 Shadeland Ave\, Indianapolis\, IN\, 46226\, United States
CATEGORIES:WorkOne Workshops
ATTACH;FMTTYPE=image/jpeg:https://employindy.org/wp-content/uploads/2026/02/DSC08767-e1770665747708.jpg
ORGANIZER;CN="WorkOne Indy":MAILTO:4410 N Shadeland Ave, Indianapolis, IN 46226
END:VEVENT
BEGIN:VEVENT
DTSTART;TZID=UTC:20260512T083000
DTEND;TZID=UTC:20260512T100000
DTSTAMP:20260421T113257
CREATED:20260209T191235Z
LAST-MODIFIED:20260209T191235Z
UID:10000642-1778574600-1778580000@employindy.org
SUMMARY:WorkKeys Career Readiness Assessment for All Job Seekers
DESCRIPTION:Join Anthem and various healthcare partners/providers for a hiring event focused on careers in healthcare.								\n				\n				\n				\n							\n			\n		\n						\n				\n					\n				\n		\n					\n				\n				\n									\n					\n						\n									View Event Flyer
URL:https://employindy.org/event/workkeys-career-readiness-assessment-for-all-job-seekers-2/2026-05-12/
LOCATION:WorkOne Indy\, 4410 Shadeland Ave\, Indianapolis\, IN\, 46226\, United States
CATEGORIES:WorkOne Workshops
ATTACH;FMTTYPE=image/jpeg:https://employindy.org/wp-content/uploads/2026/02/WorkKeys_banner.jpg
ORGANIZER;CN="WorkOne Indy":MAILTO:4410 N Shadeland Ave, Indianapolis, IN 46226
END:VEVENT
BEGIN:VEVENT
DTSTART;TZID=UTC:20260511T090000
DTEND;TZID=UTC:20260511T103000
DTSTAMP:20260421T113257
CREATED:20260402T162443Z
LAST-MODIFIED:20260408T163614Z
UID:10002870-1778490000-1778495400@employindy.org
SUMMARY:WorkOne Indy WIOA Orientation
DESCRIPTION:Join Anthem and various healthcare partners/providers for a hiring event focused on careers in healthcare.								\n				\n				\n				\n							\n			\n		\n						\n				\n					\n				\n		\n					\n				\n				\n									\n					\n						\n									View Event Flyer
URL:https://employindy.org/event/workone-indy-wioa-orientation-27/2026-05-11/
LOCATION:WorkOne Indy\, 4410 Shadeland Ave\, Indianapolis\, IN\, 46226\, United States
CATEGORIES:In-Person,WorkOne Workshops
ATTACH;FMTTYPE=image/jpeg:https://employindy.org/wp-content/uploads/2025/12/DSC06961-scaled.jpg
ORGANIZER;CN="WorkOne Indy":MAILTO:4410 N Shadeland Ave, Indianapolis, IN 46226
END:VEVENT
BEGIN:VEVENT
DTSTART;TZID=UTC:20260511T083000
DTEND;TZID=UTC:20260511T100000
DTSTAMP:20260421T113257
CREATED:20260417T170035Z
LAST-MODIFIED:20260417T170035Z
UID:10003125-1778488200-1778493600@employindy.org
SUMMARY:WorkKeys Career Readiness Assessment for All Job Seekers
DESCRIPTION:Join Anthem and various healthcare partners/providers for a hiring event focused on careers in healthcare.								\n				\n				\n				\n							\n			\n		\n						\n				\n					\n				\n		\n					\n				\n				\n									\n					\n						\n									View Event Flyer
URL:https://employindy.org/event/workkeys-career-readiness-assessment-for-all-job-seekers-3/2026-05-11/
LOCATION:WorkOne Indy\, 4410 Shadeland Ave\, Indianapolis\, IN\, 46226\, United States
CATEGORIES:WorkOne Workshops
ATTACH;FMTTYPE=image/jpeg:https://employindy.org/wp-content/uploads/2026/02/WorkKeys_banner.jpg
ORGANIZER;CN="WorkOne Indy":MAILTO:4410 N Shadeland Ave, Indianapolis, IN 46226
END:VEVENT
BEGIN:VEVENT
DTSTART;TZID=UTC:20260511T083000
DTEND;TZID=UTC:20260511T100000
DTSTAMP:20260421T113257
CREATED:20260209T191048Z
LAST-MODIFIED:20260209T191048Z
UID:10000524-1778488200-1778493600@employindy.org
SUMMARY:WorkKeys Career Readiness Assessment for All Job Seekers
DESCRIPTION:Join Anthem and various healthcare partners/providers for a hiring event focused on careers in healthcare.								\n				\n				\n				\n							\n			\n		\n						\n				\n					\n				\n		\n					\n				\n				\n									\n					\n						\n									View Event Flyer
URL:https://employindy.org/event/workkeys-career-readiness-assessment-for-all-job-seekers/2026-05-11/
LOCATION:WorkOne Indy\, 4410 Shadeland Ave\, Indianapolis\, IN\, 46226\, United States
CATEGORIES:WorkOne Workshops
ATTACH;FMTTYPE=image/jpeg:https://employindy.org/wp-content/uploads/2026/02/WorkKeys_banner.jpg
ORGANIZER;CN="WorkOne Indy":MAILTO:4410 N Shadeland Ave, Indianapolis, IN 46226
END:VEVENT
BEGIN:VEVENT
DTSTART;TZID=UTC:20260508T110000
DTEND;TZID=UTC:20260508T140000
DTSTAMP:20260421T113257
CREATED:20260410T144214Z
LAST-MODIFIED:20260410T144315Z
UID:10003012-1778238000-1778248800@employindy.org
SUMMARY:Careers in Construction Hiring Event w/ LiUNA! Local 120
DESCRIPTION:Join Anthem and various healthcare partners/providers for a hiring event focused on careers in healthcare.								\n				\n				\n				\n							\n			\n		\n						\n				\n					\n				\n		\n					\n				\n				\n									\n					\n						\n									View Event Flyer
URL:https://employindy.org/event/careers-in-construction-hiring-event-w-liuna-local-120/
LOCATION:WorkOne Indy\, 4410 Shadeland Ave\, Indianapolis\, IN\, 46226\, United States
CATEGORIES:Hiring/Job Fair,In-Person
ATTACH;FMTTYPE=image/jpeg:https://employindy.org/wp-content/uploads/2026/04/462218444_1132965395498861_4103674909289176980_n.jpg
ORGANIZER;CN="WorkOne Indy":MAILTO:4410 N Shadeland Ave, Indianapolis, IN 46226
END:VEVENT
BEGIN:VEVENT
DTSTART;TZID=UTC:20260506T140000
DTEND;TZID=UTC:20260506T153000
DTSTAMP:20260421T113257
CREATED:20260403T181843Z
LAST-MODIFIED:20260403T181843Z
UID:10002906-1778076000-1778081400@employindy.org
SUMMARY:Succeeding in the Workplace
DESCRIPTION:Join Anthem and various healthcare partners/providers for a hiring event focused on careers in healthcare.								\n				\n				\n				\n							\n			\n		\n						\n				\n					\n				\n		\n					\n				\n				\n									\n					\n						\n									View Event Flyer
URL:https://employindy.org/event/succeeding-in-the-workplace-4/2026-05-06/
LOCATION:WorkOne Indy\, 4410 Shadeland Ave\, Indianapolis\, IN\, 46226\, United States
CATEGORIES:WorkOne Workshops
ATTACH;FMTTYPE=image/jpeg:https://employindy.org/wp-content/uploads/2026/02/DSC07845-scaled-e1770656671568.jpg
ORGANIZER;CN="WorkOne Indy":MAILTO:4410 N Shadeland Ave, Indianapolis, IN 46226
END:VEVENT
BEGIN:VEVENT
DTSTART;TZID=UTC:20260506T110000
DTEND;TZID=UTC:20260506T140000
DTSTAMP:20260421T113257
CREATED:20260402T143141Z
LAST-MODIFIED:20260402T143141Z
UID:10002856-1778065200-1778076000@employindy.org
SUMMARY:Wednesdays @ WorkOne Hiring Event
DESCRIPTION:Join Anthem and various healthcare partners/providers for a hiring event focused on careers in healthcare.								\n				\n				\n				\n							\n			\n		\n						\n				\n					\n				\n		\n					\n				\n				\n									\n					\n						\n									View Event Flyer
URL:https://employindy.org/event/wednesdays-workone-hiring-event-15/
LOCATION:WorkOne Career Services\, 4410 N Shadeland Ave.\, Indianapolis\, IN\, 46226\, United States
CATEGORIES:Hiring/Job Fair,In-Person
ATTACH;FMTTYPE=image/jpeg:https://employindy.org/wp-content/uploads/2025/09/5-WOI-Vesta-Family-scaled-2.jpg
ORGANIZER;CN="WorkOne Indy":MAILTO:4410 N Shadeland Ave, Indianapolis, IN 46226
END:VEVENT
BEGIN:VEVENT
DTSTART;TZID=UTC:20260506T110000
DTEND;TZID=UTC:20260506T123000
DTSTAMP:20260421T113257
CREATED:20260409T164610Z
LAST-MODIFIED:20260409T164610Z
UID:10002941-1778065200-1778070600@employindy.org
SUMMARY:Planning For Training Success (VIRTUAL ONLY)
DESCRIPTION:Join Anthem and various healthcare partners/providers for a hiring event focused on careers in healthcare.								\n				\n				\n				\n							\n			\n		\n						\n				\n					\n				\n		\n					\n				\n				\n									\n					\n						\n									View Event Flyer
URL:https://employindy.org/event/planning-for-training-success-virtual-only-2/2026-05-06/
LOCATION:WorkOne Indy\, 4410 Shadeland Ave\, Indianapolis\, IN\, 46226\, United States
CATEGORIES:WorkOne Workshops
ATTACH;FMTTYPE=image/jpeg:https://employindy.org/wp-content/uploads/2026/02/DSC08767-e1770665747708.jpg
ORGANIZER;CN="WorkOne Indy":MAILTO:4410 N Shadeland Ave, Indianapolis, IN 46226
END:VEVENT
BEGIN:VEVENT
DTSTART;TZID=UTC:20260505T083000
DTEND;TZID=UTC:20260505T100000
DTSTAMP:20260421T113257
CREATED:20260209T191235Z
LAST-MODIFIED:20260209T191235Z
UID:10000641-1777969800-1777975200@employindy.org
SUMMARY:WorkKeys Career Readiness Assessment for All Job Seekers
DESCRIPTION:Join Anthem and various healthcare partners/providers for a hiring event focused on careers in healthcare.								\n				\n				\n				\n							\n			\n		\n						\n				\n					\n				\n		\n					\n				\n				\n									\n					\n						\n									View Event Flyer
URL:https://employindy.org/event/workkeys-career-readiness-assessment-for-all-job-seekers-2/2026-05-05/
LOCATION:WorkOne Indy\, 4410 Shadeland Ave\, Indianapolis\, IN\, 46226\, United States
CATEGORIES:WorkOne Workshops
ATTACH;FMTTYPE=image/jpeg:https://employindy.org/wp-content/uploads/2026/02/WorkKeys_banner.jpg
ORGANIZER;CN="WorkOne Indy":MAILTO:4410 N Shadeland Ave, Indianapolis, IN 46226
END:VEVENT
BEGIN:VEVENT
DTSTART;TZID=UTC:20260504T090000
DTEND;TZID=UTC:20260504T103000
DTSTAMP:20260421T113257
CREATED:20260402T162443Z
LAST-MODIFIED:20260408T163614Z
UID:10002869-1777885200-1777890600@employindy.org
SUMMARY:WorkOne Indy WIOA Orientation
DESCRIPTION:Join Anthem and various healthcare partners/providers for a hiring event focused on careers in healthcare.								\n				\n				\n				\n							\n			\n		\n						\n				\n					\n				\n		\n					\n				\n				\n									\n					\n						\n									View Event Flyer
URL:https://employindy.org/event/workone-indy-wioa-orientation-27/2026-05-04/
LOCATION:WorkOne Indy\, 4410 Shadeland Ave\, Indianapolis\, IN\, 46226\, United States
CATEGORIES:In-Person,WorkOne Workshops
ATTACH;FMTTYPE=image/jpeg:https://employindy.org/wp-content/uploads/2025/12/DSC06961-scaled.jpg
ORGANIZER;CN="WorkOne Indy":MAILTO:4410 N Shadeland Ave, Indianapolis, IN 46226
END:VEVENT
BEGIN:VEVENT
DTSTART;TZID=UTC:20260504T083000
DTEND;TZID=UTC:20260504T100000
DTSTAMP:20260421T113257
CREATED:20260417T170035Z
LAST-MODIFIED:20260417T170035Z
UID:10003124-1777883400-1777888800@employindy.org
SUMMARY:WorkKeys Career Readiness Assessment for All Job Seekers
DESCRIPTION:Join Anthem and various healthcare partners/providers for a hiring event focused on careers in healthcare.								\n				\n				\n				\n							\n			\n		\n						\n				\n					\n				\n		\n					\n				\n				\n									\n					\n						\n									View Event Flyer
URL:https://employindy.org/event/workkeys-career-readiness-assessment-for-all-job-seekers-3/2026-05-04/
LOCATION:WorkOne Indy\, 4410 Shadeland Ave\, Indianapolis\, IN\, 46226\, United States
CATEGORIES:WorkOne Workshops
ATTACH;FMTTYPE=image/jpeg:https://employindy.org/wp-content/uploads/2026/02/WorkKeys_banner.jpg
ORGANIZER;CN="WorkOne Indy":MAILTO:4410 N Shadeland Ave, Indianapolis, IN 46226
END:VEVENT
BEGIN:VEVENT
DTSTART;TZID=UTC:20260504T083000
DTEND;TZID=UTC:20260504T100000
DTSTAMP:20260421T113257
CREATED:20260209T191048Z
LAST-MODIFIED:20260209T191048Z
UID:10000523-1777883400-1777888800@employindy.org
SUMMARY:WorkKeys Career Readiness Assessment for All Job Seekers
DESCRIPTION:Join Anthem and various healthcare partners/providers for a hiring event focused on careers in healthcare.								\n				\n				\n				\n							\n			\n		\n						\n				\n					\n				\n		\n					\n				\n				\n									\n					\n						\n									View Event Flyer
URL:https://employindy.org/event/workkeys-career-readiness-assessment-for-all-job-seekers/2026-05-04/
LOCATION:WorkOne Indy\, 4410 Shadeland Ave\, Indianapolis\, IN\, 46226\, United States
CATEGORIES:WorkOne Workshops
ATTACH;FMTTYPE=image/jpeg:https://employindy.org/wp-content/uploads/2026/02/WorkKeys_banner.jpg
ORGANIZER;CN="WorkOne Indy":MAILTO:4410 N Shadeland Ave, Indianapolis, IN 46226
END:VEVENT
BEGIN:VEVENT
DTSTART;TZID=UTC:20260501T110000
DTEND;TZID=UTC:20260501T140000
DTSTAMP:20260421T113257
CREATED:20260410T143619Z
LAST-MODIFIED:20260410T143927Z
UID:10003011-1777633200-1777644000@employindy.org
SUMMARY:Careers in Healthcare Hiring Event w/ Anthem
DESCRIPTION:Join Anthem and various healthcare partners/providers for a hiring event focused on careers in healthcare.								\n				\n				\n				\n							\n			\n		\n						\n				\n					\n				\n		\n					\n				\n				\n									\n					\n						\n									View Event Flyer
URL:https://employindy.org/event/careers-in-healthcare-hiring-event-w-anthem/
LOCATION:WorkOne Indy\, 4410 Shadeland Ave\, Indianapolis\, IN\, 46226\, United States
CATEGORIES:Hiring/Job Fair,In-Person
ATTACH;FMTTYPE=image/jpeg:https://employindy.org/wp-content/uploads/2026/02/DSC08432-e1771944339191.jpg
ORGANIZER;CN="WorkOne Indy":MAILTO:4410 N Shadeland Ave, Indianapolis, IN 46226
END:VEVENT
BEGIN:VEVENT
DTSTART;TZID=UTC:20260429T140000
DTEND;TZID=UTC:20260429T153000
DTSTAMP:20260421T113257
CREATED:20260403T181843Z
LAST-MODIFIED:20260403T181843Z
UID:10002905-1777471200-1777476600@employindy.org
SUMMARY:Succeeding in the Workplace
DESCRIPTION:Join Anthem and various healthcare partners/providers for a hiring event focused on careers in healthcare.								\n				\n				\n				\n							\n			\n		\n						\n				\n					\n				\n		\n					\n				\n				\n									\n					\n						\n									View Event Flyer
URL:https://employindy.org/event/succeeding-in-the-workplace-4/2026-04-29/
LOCATION:WorkOne Indy\, 4410 Shadeland Ave\, Indianapolis\, IN\, 46226\, United States
CATEGORIES:WorkOne Workshops
ATTACH;FMTTYPE=image/jpeg:https://employindy.org/wp-content/uploads/2026/02/DSC07845-scaled-e1770656671568.jpg
ORGANIZER;CN="WorkOne Indy":MAILTO:4410 N Shadeland Ave, Indianapolis, IN 46226
END:VEVENT
BEGIN:VEVENT
DTSTART;TZID=UTC:20260429T110000
DTEND;TZID=UTC:20260429T140000
DTSTAMP:20260421T113257
CREATED:20260402T143046Z
LAST-MODIFIED:20260402T143046Z
UID:10002855-1777460400-1777471200@employindy.org
SUMMARY:Wednesdays @ WorkOne Hiring Event
DESCRIPTION:Join Anthem and various healthcare partners/providers for a hiring event focused on careers in healthcare.								\n				\n				\n				\n							\n			\n		\n						\n				\n					\n				\n		\n					\n				\n				\n									\n					\n						\n									View Event Flyer
URL:https://employindy.org/event/wednesdays-workone-hiring-event-14/
LOCATION:WorkOne Career Services\, 4410 N Shadeland Ave.\, Indianapolis\, IN\, 46226\, United States
CATEGORIES:Hiring/Job Fair,In-Person
ATTACH;FMTTYPE=image/jpeg:https://employindy.org/wp-content/uploads/2025/09/5-WOI-Vesta-Family-scaled-2.jpg
ORGANIZER;CN="WorkOne Indy":MAILTO:4410 N Shadeland Ave, Indianapolis, IN 46226
END:VEVENT
BEGIN:VEVENT
DTSTART;TZID=UTC:20260429T110000
DTEND;TZID=UTC:20260429T123000
DTSTAMP:20260421T113257
CREATED:20260409T164610Z
LAST-MODIFIED:20260409T164610Z
UID:10002940-1777460400-1777465800@employindy.org
SUMMARY:Planning For Training Success (VIRTUAL ONLY)
DESCRIPTION:Join Anthem and various healthcare partners/providers for a hiring event focused on careers in healthcare.								\n				\n				\n				\n							\n			\n		\n						\n				\n					\n				\n		\n					\n				\n				\n									\n					\n						\n									View Event Flyer
URL:https://employindy.org/event/planning-for-training-success-virtual-only-2/2026-04-29/
LOCATION:WorkOne Indy\, 4410 Shadeland Ave\, Indianapolis\, IN\, 46226\, United States
CATEGORIES:WorkOne Workshops
ATTACH;FMTTYPE=image/jpeg:https://employindy.org/wp-content/uploads/2026/02/DSC08767-e1770665747708.jpg
ORGANIZER;CN="WorkOne Indy":MAILTO:4410 N Shadeland Ave, Indianapolis, IN 46226
END:VEVENT
BEGIN:VEVENT
DTSTART;TZID=UTC:20260428T083000
DTEND;TZID=UTC:20260428T100000
DTSTAMP:20260421T113257
CREATED:20260209T191235Z
LAST-MODIFIED:20260209T191235Z
UID:10000640-1777365000-1777370400@employindy.org
SUMMARY:WorkKeys Career Readiness Assessment for All Job Seekers
DESCRIPTION:Join Anthem and various healthcare partners/providers for a hiring event focused on careers in healthcare.								\n				\n				\n				\n							\n			\n		\n						\n				\n					\n				\n		\n					\n				\n				\n									\n					\n						\n									View Event Flyer
URL:https://employindy.org/event/workkeys-career-readiness-assessment-for-all-job-seekers-2/2026-04-28/
LOCATION:WorkOne Indy\, 4410 Shadeland Ave\, Indianapolis\, IN\, 46226\, United States
CATEGORIES:WorkOne Workshops
ATTACH;FMTTYPE=image/jpeg:https://employindy.org/wp-content/uploads/2026/02/WorkKeys_banner.jpg
ORGANIZER;CN="WorkOne Indy":MAILTO:4410 N Shadeland Ave, Indianapolis, IN 46226
END:VEVENT
BEGIN:VEVENT
DTSTART;TZID=UTC:20260427T090000
DTEND;TZID=UTC:20260427T103000
DTSTAMP:20260421T113257
CREATED:20260402T162443Z
LAST-MODIFIED:20260408T163614Z
UID:10002868-1777280400-1777285800@employindy.org
SUMMARY:WorkOne Indy WIOA Orientation
DESCRIPTION:Join Anthem and various healthcare partners/providers for a hiring event focused on careers in healthcare.								\n				\n				\n				\n							\n			\n		\n						\n				\n					\n				\n		\n					\n				\n				\n									\n					\n						\n									View Event Flyer
URL:https://employindy.org/event/workone-indy-wioa-orientation-27/2026-04-27/
LOCATION:WorkOne Indy\, 4410 Shadeland Ave\, Indianapolis\, IN\, 46226\, United States
CATEGORIES:In-Person,WorkOne Workshops
ATTACH;FMTTYPE=image/jpeg:https://employindy.org/wp-content/uploads/2025/12/DSC06961-scaled.jpg
ORGANIZER;CN="WorkOne Indy":MAILTO:4410 N Shadeland Ave, Indianapolis, IN 46226
END:VEVENT
BEGIN:VEVENT
DTSTART;TZID=UTC:20260427T083000
DTEND;TZID=UTC:20260427T100000
DTSTAMP:20260421T113257
CREATED:20260417T170035Z
LAST-MODIFIED:20260417T170035Z
UID:10003123-1777278600-1777284000@employindy.org
SUMMARY:WorkKeys Career Readiness Assessment for All Job Seekers
DESCRIPTION:Join Anthem and various healthcare partners/providers for a hiring event focused on careers in healthcare.								\n				\n				\n				\n							\n			\n		\n						\n				\n					\n				\n		\n					\n				\n				\n									\n					\n						\n									View Event Flyer
URL:https://employindy.org/event/workkeys-career-readiness-assessment-for-all-job-seekers-3/2026-04-27/
LOCATION:WorkOne Indy\, 4410 Shadeland Ave\, Indianapolis\, IN\, 46226\, United States
CATEGORIES:WorkOne Workshops
ATTACH;FMTTYPE=image/jpeg:https://employindy.org/wp-content/uploads/2026/02/WorkKeys_banner.jpg
ORGANIZER;CN="WorkOne Indy":MAILTO:4410 N Shadeland Ave, Indianapolis, IN 46226
END:VEVENT
BEGIN:VEVENT
DTSTART;TZID=UTC:20260427T083000
DTEND;TZID=UTC:20260427T100000
DTSTAMP:20260421T113257
CREATED:20260209T191048Z
LAST-MODIFIED:20260209T191048Z
UID:10000522-1777278600-1777284000@employindy.org
SUMMARY:WorkKeys Career Readiness Assessment for All Job Seekers
DESCRIPTION:Join Anthem and various healthcare partners/providers for a hiring event focused on careers in healthcare.								\n				\n				\n				\n							\n			\n		\n						\n				\n					\n				\n		\n					\n				\n				\n									\n					\n						\n									View Event Flyer
URL:https://employindy.org/event/workkeys-career-readiness-assessment-for-all-job-seekers/2026-04-27/
LOCATION:WorkOne Indy\, 4410 Shadeland Ave\, Indianapolis\, IN\, 46226\, United States
CATEGORIES:WorkOne Workshops
ATTACH;FMTTYPE=image/jpeg:https://employindy.org/wp-content/uploads/2026/02/WorkKeys_banner.jpg
ORGANIZER;CN="WorkOne Indy":MAILTO:4410 N Shadeland Ave, Indianapolis, IN 46226
END:VEVENT
BEGIN:VEVENT
DTSTART;TZID=UTC:20260422T140000
DTEND;TZID=UTC:20260422T153000
DTSTAMP:20260421T113257
CREATED:20260403T181843Z
LAST-MODIFIED:20260403T181843Z
UID:10002904-1776866400-1776871800@employindy.org
SUMMARY:Succeeding in the Workplace
DESCRIPTION:Join Anthem and various healthcare partners/providers for a hiring event focused on careers in healthcare.								\n				\n				\n				\n							\n			\n		\n						\n				\n					\n				\n		\n					\n				\n				\n									\n					\n						\n									View Event Flyer
URL:https://employindy.org/event/succeeding-in-the-workplace-4/2026-04-22/
LOCATION:WorkOne Indy\, 4410 Shadeland Ave\, Indianapolis\, IN\, 46226\, United States
CATEGORIES:WorkOne Workshops
ATTACH;FMTTYPE=image/jpeg:https://employindy.org/wp-content/uploads/2026/02/DSC07845-scaled-e1770656671568.jpg
ORGANIZER;CN="WorkOne Indy":MAILTO:4410 N Shadeland Ave, Indianapolis, IN 46226
END:VEVENT
BEGIN:VEVENT
DTSTART;TZID=UTC:20260422T110000
DTEND;TZID=UTC:20260422T140000
DTSTAMP:20260421T113257
CREATED:20260402T143000Z
LAST-MODIFIED:20260417T165516Z
UID:10002854-1776855600-1776866400@employindy.org
SUMMARY:Wednesdays @ WorkOne Hiring Event
DESCRIPTION:Join Anthem and various healthcare partners/providers for a hiring event focused on careers in healthcare.								\n				\n				\n				\n							\n			\n		\n						\n				\n					\n				\n		\n					\n				\n				\n									\n					\n						\n									View Event Flyer
URL:https://employindy.org/event/wednesdays-workone-hiring-event-13/
LOCATION:WorkOne Career Services\, 4410 N Shadeland Ave.\, Indianapolis\, IN\, 46226\, United States
CATEGORIES:Hiring/Job Fair,In-Person
ATTACH;FMTTYPE=image/jpeg:https://employindy.org/wp-content/uploads/2025/09/5-WOI-Vesta-Family-scaled-2.jpg
ORGANIZER;CN="WorkOne Indy":MAILTO:4410 N Shadeland Ave, Indianapolis, IN 46226
END:VEVENT
BEGIN:VEVENT
DTSTART;TZID=UTC:20260422T110000
DTEND;TZID=UTC:20260422T123000
DTSTAMP:20260421T113257
CREATED:20260409T164610Z
LAST-MODIFIED:20260409T164610Z
UID:10002939-1776855600-1776861000@employindy.org
SUMMARY:Planning For Training Success (VIRTUAL ONLY)
DESCRIPTION:Join Anthem and various healthcare partners/providers for a hiring event focused on careers in healthcare.								\n				\n				\n				\n							\n			\n		\n						\n				\n					\n				\n		\n					\n				\n				\n									\n					\n						\n									View Event Flyer
URL:https://employindy.org/event/planning-for-training-success-virtual-only-2/2026-04-22/
LOCATION:WorkOne Indy\, 4410 Shadeland Ave\, Indianapolis\, IN\, 46226\, United States
CATEGORIES:WorkOne Workshops
ATTACH;FMTTYPE=image/jpeg:https://employindy.org/wp-content/uploads/2026/02/DSC08767-e1770665747708.jpg
ORGANIZER;CN="WorkOne Indy":MAILTO:4410 N Shadeland Ave, Indianapolis, IN 46226
END:VEVENT
BEGIN:VEVENT
DTSTART;TZID=UTC:20260422T090000
DTEND;TZID=UTC:20260422T160000
DTSTAMP:20260421T113257
CREATED:20251015T172809Z
LAST-MODIFIED:20260406T211004Z
UID:10000271-1776848400-1776873600@employindy.org
SUMMARY:Career Coaching + Advising Summit
DESCRIPTION:Join Anthem and various healthcare partners/providers for a hiring event focused on careers in healthcare.								\n				\n				\n				\n							\n			\n		\n						\n				\n					\n				\n		\n					\n				\n				\n									\n					\n						\n									View Event Flyer
URL:https://employindy.org/event/career-coaching-advising-summit/
LOCATION:Ivy Tech Culinary & Conference Building\, 2820 N. Meridian St.\, Indianapolis\, IN\, 46208\, United States
CATEGORIES:In-Person,Workshops
ATTACH;FMTTYPE=image/jpeg:https://employindy.org/wp-content/uploads/2025/10/DSC09580-scaled-e1772554415515.jpg
ORGANIZER;CN="EmployIndy":MAILTO:contact@employindy.org
END:VEVENT
BEGIN:VEVENT
DTSTART;TZID=UTC:20260421T083000
DTEND;TZID=UTC:20260421T100000
DTSTAMP:20260421T113257
CREATED:20260209T191235Z
LAST-MODIFIED:20260209T191235Z
UID:10000639-1776760200-1776765600@employindy.org
SUMMARY:WorkKeys Career Readiness Assessment for All Job Seekers
DESCRIPTION:Join Anthem and various healthcare partners/providers for a hiring event focused on careers in healthcare.								\n				\n				\n				\n							\n			\n		\n						\n				\n					\n				\n		\n					\n				\n				\n									\n					\n						\n									View Event Flyer
URL:https://employindy.org/event/workkeys-career-readiness-assessment-for-all-job-seekers-2/2026-04-21/
LOCATION:WorkOne Indy\, 4410 Shadeland Ave\, Indianapolis\, IN\, 46226\, United States
CATEGORIES:WorkOne Workshops
ATTACH;FMTTYPE=image/jpeg:https://employindy.org/wp-content/uploads/2026/02/WorkKeys_banner.jpg
ORGANIZER;CN="WorkOne Indy":MAILTO:4410 N Shadeland Ave, Indianapolis, IN 46226
END:VEVENT
END:VCALENDAR