BEGIN:VCALENDAR
VERSION:2.0
PRODID:-//EmployIndy - ECPv6.15.17//NONSGML v1.0//EN
CALSCALE:GREGORIAN
METHOD:PUBLISH
X-WR-CALNAME:EmployIndy
X-ORIGINAL-URL:https://employindy.org
X-WR-CALDESC:Events for EmployIndy
REFRESH-INTERVAL;VALUE=DURATION:PT1H
X-Robots-Tag:noindex
X-PUBLISHED-TTL:PT1H
BEGIN:VTIMEZONE
TZID:UTC
BEGIN:STANDARD
TZOFFSETFROM:+0000
TZOFFSETTO:+0000
TZNAME:UTC
DTSTART:20250101T000000
END:STANDARD
END:VTIMEZONE
BEGIN:VEVENT
DTSTART;TZID=UTC:20260428T083000
DTEND;TZID=UTC:20260428T100000
DTSTAMP:20260421T164841
CREATED:20260209T191235Z
LAST-MODIFIED:20260209T191235Z
UID:10000640-1777365000-1777370400@employindy.org
SUMMARY:WorkKeys Career Readiness Assessment for All Job Seekers
DESCRIPTION:Join Anthem and various healthcare partners/providers for a hiring event focused on careers in healthcare.								\n				\n				\n				\n							\n			\n		\n						\n				\n					\n				\n		\n					\n				\n				\n									\n					\n						\n									View Event Flyer
URL:https://employindy.org/event/workkeys-career-readiness-assessment-for-all-job-seekers-2/2026-04-28/
LOCATION:WorkOne Indy\, 4410 Shadeland Ave\, Indianapolis\, IN\, 46226\, United States
CATEGORIES:WorkOne Workshops
ATTACH;FMTTYPE=image/jpeg:https://employindy.org/wp-content/uploads/2026/02/WorkKeys_banner.jpg
ORGANIZER;CN="WorkOne Indy":MAILTO:4410 N Shadeland Ave, Indianapolis, IN 46226
END:VEVENT
BEGIN:VEVENT
DTSTART;TZID=UTC:20260427T090000
DTEND;TZID=UTC:20260427T103000
DTSTAMP:20260421T164841
CREATED:20260402T162443Z
LAST-MODIFIED:20260408T163614Z
UID:10002868-1777280400-1777285800@employindy.org
SUMMARY:WorkOne Indy WIOA Orientation
DESCRIPTION:Join Anthem and various healthcare partners/providers for a hiring event focused on careers in healthcare.								\n				\n				\n				\n							\n			\n		\n						\n				\n					\n				\n		\n					\n				\n				\n									\n					\n						\n									View Event Flyer
URL:https://employindy.org/event/workone-indy-wioa-orientation-27/2026-04-27/
LOCATION:WorkOne Indy\, 4410 Shadeland Ave\, Indianapolis\, IN\, 46226\, United States
CATEGORIES:In-Person,WorkOne Workshops
ATTACH;FMTTYPE=image/jpeg:https://employindy.org/wp-content/uploads/2025/12/DSC06961-scaled.jpg
ORGANIZER;CN="WorkOne Indy":MAILTO:4410 N Shadeland Ave, Indianapolis, IN 46226
END:VEVENT
BEGIN:VEVENT
DTSTART;TZID=UTC:20260427T083000
DTEND;TZID=UTC:20260427T100000
DTSTAMP:20260421T164841
CREATED:20260417T170035Z
LAST-MODIFIED:20260417T170035Z
UID:10003123-1777278600-1777284000@employindy.org
SUMMARY:WorkKeys Career Readiness Assessment for All Job Seekers
DESCRIPTION:Join Anthem and various healthcare partners/providers for a hiring event focused on careers in healthcare.								\n				\n				\n				\n							\n			\n		\n						\n				\n					\n				\n		\n					\n				\n				\n									\n					\n						\n									View Event Flyer
URL:https://employindy.org/event/workkeys-career-readiness-assessment-for-all-job-seekers-3/2026-04-27/
LOCATION:WorkOne Indy\, 4410 Shadeland Ave\, Indianapolis\, IN\, 46226\, United States
CATEGORIES:WorkOne Workshops
ATTACH;FMTTYPE=image/jpeg:https://employindy.org/wp-content/uploads/2026/02/WorkKeys_banner.jpg
ORGANIZER;CN="WorkOne Indy":MAILTO:4410 N Shadeland Ave, Indianapolis, IN 46226
END:VEVENT
BEGIN:VEVENT
DTSTART;TZID=UTC:20260427T083000
DTEND;TZID=UTC:20260427T100000
DTSTAMP:20260421T164841
CREATED:20260209T191048Z
LAST-MODIFIED:20260209T191048Z
UID:10000522-1777278600-1777284000@employindy.org
SUMMARY:WorkKeys Career Readiness Assessment for All Job Seekers
DESCRIPTION:Join Anthem and various healthcare partners/providers for a hiring event focused on careers in healthcare.								\n				\n				\n				\n							\n			\n		\n						\n				\n					\n				\n		\n					\n				\n				\n									\n					\n						\n									View Event Flyer
URL:https://employindy.org/event/workkeys-career-readiness-assessment-for-all-job-seekers/2026-04-27/
LOCATION:WorkOne Indy\, 4410 Shadeland Ave\, Indianapolis\, IN\, 46226\, United States
CATEGORIES:WorkOne Workshops
ATTACH;FMTTYPE=image/jpeg:https://employindy.org/wp-content/uploads/2026/02/WorkKeys_banner.jpg
ORGANIZER;CN="WorkOne Indy":MAILTO:4410 N Shadeland Ave, Indianapolis, IN 46226
END:VEVENT
BEGIN:VEVENT
DTSTART;TZID=UTC:20260422T140000
DTEND;TZID=UTC:20260422T153000
DTSTAMP:20260421T164841
CREATED:20260403T181843Z
LAST-MODIFIED:20260403T181843Z
UID:10002904-1776866400-1776871800@employindy.org
SUMMARY:Succeeding in the Workplace
DESCRIPTION:Join Anthem and various healthcare partners/providers for a hiring event focused on careers in healthcare.								\n				\n				\n				\n							\n			\n		\n						\n				\n					\n				\n		\n					\n				\n				\n									\n					\n						\n									View Event Flyer
URL:https://employindy.org/event/succeeding-in-the-workplace-4/2026-04-22/
LOCATION:WorkOne Indy\, 4410 Shadeland Ave\, Indianapolis\, IN\, 46226\, United States
CATEGORIES:WorkOne Workshops
ATTACH;FMTTYPE=image/jpeg:https://employindy.org/wp-content/uploads/2026/02/DSC07845-scaled-e1770656671568.jpg
ORGANIZER;CN="WorkOne Indy":MAILTO:4410 N Shadeland Ave, Indianapolis, IN 46226
END:VEVENT
BEGIN:VEVENT
DTSTART;TZID=UTC:20260422T110000
DTEND;TZID=UTC:20260422T140000
DTSTAMP:20260421T164841
CREATED:20260402T143000Z
LAST-MODIFIED:20260417T165516Z
UID:10002854-1776855600-1776866400@employindy.org
SUMMARY:Wednesdays @ WorkOne Hiring Event
DESCRIPTION:Join Anthem and various healthcare partners/providers for a hiring event focused on careers in healthcare.								\n				\n				\n				\n							\n			\n		\n						\n				\n					\n				\n		\n					\n				\n				\n									\n					\n						\n									View Event Flyer
URL:https://employindy.org/event/wednesdays-workone-hiring-event-13/
LOCATION:WorkOne Career Services\, 4410 N Shadeland Ave.\, Indianapolis\, IN\, 46226\, United States
CATEGORIES:Hiring/Job Fair,In-Person
ATTACH;FMTTYPE=image/jpeg:https://employindy.org/wp-content/uploads/2025/09/5-WOI-Vesta-Family-scaled-2.jpg
ORGANIZER;CN="WorkOne Indy":MAILTO:4410 N Shadeland Ave, Indianapolis, IN 46226
END:VEVENT
BEGIN:VEVENT
DTSTART;TZID=UTC:20260422T110000
DTEND;TZID=UTC:20260422T123000
DTSTAMP:20260421T164841
CREATED:20260409T164610Z
LAST-MODIFIED:20260409T164610Z
UID:10002939-1776855600-1776861000@employindy.org
SUMMARY:Planning For Training Success (VIRTUAL ONLY)
DESCRIPTION:Join Anthem and various healthcare partners/providers for a hiring event focused on careers in healthcare.								\n				\n				\n				\n							\n			\n		\n						\n				\n					\n				\n		\n					\n				\n				\n									\n					\n						\n									View Event Flyer
URL:https://employindy.org/event/planning-for-training-success-virtual-only-2/2026-04-22/
LOCATION:WorkOne Indy\, 4410 Shadeland Ave\, Indianapolis\, IN\, 46226\, United States
CATEGORIES:WorkOne Workshops
ATTACH;FMTTYPE=image/jpeg:https://employindy.org/wp-content/uploads/2026/02/DSC08767-e1770665747708.jpg
ORGANIZER;CN="WorkOne Indy":MAILTO:4410 N Shadeland Ave, Indianapolis, IN 46226
END:VEVENT
BEGIN:VEVENT
DTSTART;TZID=UTC:20260422T090000
DTEND;TZID=UTC:20260422T160000
DTSTAMP:20260421T164841
CREATED:20251015T172809Z
LAST-MODIFIED:20260406T211004Z
UID:10000271-1776848400-1776873600@employindy.org
SUMMARY:Career Coaching + Advising Summit
DESCRIPTION:Join Anthem and various healthcare partners/providers for a hiring event focused on careers in healthcare.								\n				\n				\n				\n							\n			\n		\n						\n				\n					\n				\n		\n					\n				\n				\n									\n					\n						\n									View Event Flyer
URL:https://employindy.org/event/career-coaching-advising-summit/
LOCATION:Ivy Tech Culinary & Conference Building\, 2820 N. Meridian St.\, Indianapolis\, IN\, 46208\, United States
CATEGORIES:In-Person,Workshops
ATTACH;FMTTYPE=image/jpeg:https://employindy.org/wp-content/uploads/2025/10/DSC09580-scaled-e1772554415515.jpg
ORGANIZER;CN="EmployIndy":MAILTO:contact@employindy.org
END:VEVENT
BEGIN:VEVENT
DTSTART;TZID=UTC:20260421T083000
DTEND;TZID=UTC:20260421T100000
DTSTAMP:20260421T164841
CREATED:20260209T191235Z
LAST-MODIFIED:20260209T191235Z
UID:10000639-1776760200-1776765600@employindy.org
SUMMARY:WorkKeys Career Readiness Assessment for All Job Seekers
DESCRIPTION:Join Anthem and various healthcare partners/providers for a hiring event focused on careers in healthcare.								\n				\n				\n				\n							\n			\n		\n						\n				\n					\n				\n		\n					\n				\n				\n									\n					\n						\n									View Event Flyer
URL:https://employindy.org/event/workkeys-career-readiness-assessment-for-all-job-seekers-2/2026-04-21/
LOCATION:WorkOne Indy\, 4410 Shadeland Ave\, Indianapolis\, IN\, 46226\, United States
CATEGORIES:WorkOne Workshops
ATTACH;FMTTYPE=image/jpeg:https://employindy.org/wp-content/uploads/2026/02/WorkKeys_banner.jpg
ORGANIZER;CN="WorkOne Indy":MAILTO:4410 N Shadeland Ave, Indianapolis, IN 46226
END:VEVENT
BEGIN:VEVENT
DTSTART;TZID=UTC:20260420T090000
DTEND;TZID=UTC:20260420T103000
DTSTAMP:20260421T164841
CREATED:20260402T162443Z
LAST-MODIFIED:20260408T163614Z
UID:10002867-1776675600-1776681000@employindy.org
SUMMARY:WorkOne Indy WIOA Orientation
DESCRIPTION:Join Anthem and various healthcare partners/providers for a hiring event focused on careers in healthcare.								\n				\n				\n				\n							\n			\n		\n						\n				\n					\n				\n		\n					\n				\n				\n									\n					\n						\n									View Event Flyer
URL:https://employindy.org/event/workone-indy-wioa-orientation-27/2026-04-20/
LOCATION:WorkOne Indy\, 4410 Shadeland Ave\, Indianapolis\, IN\, 46226\, United States
CATEGORIES:In-Person,WorkOne Workshops
ATTACH;FMTTYPE=image/jpeg:https://employindy.org/wp-content/uploads/2025/12/DSC06961-scaled.jpg
ORGANIZER;CN="WorkOne Indy":MAILTO:4410 N Shadeland Ave, Indianapolis, IN 46226
END:VEVENT
BEGIN:VEVENT
DTSTART;TZID=UTC:20260420T083000
DTEND;TZID=UTC:20260420T100000
DTSTAMP:20260421T164841
CREATED:20260417T170035Z
LAST-MODIFIED:20260417T170035Z
UID:10003122-1776673800-1776679200@employindy.org
SUMMARY:WorkKeys Career Readiness Assessment for All Job Seekers
DESCRIPTION:Join Anthem and various healthcare partners/providers for a hiring event focused on careers in healthcare.								\n				\n				\n				\n							\n			\n		\n						\n				\n					\n				\n		\n					\n				\n				\n									\n					\n						\n									View Event Flyer
URL:https://employindy.org/event/workkeys-career-readiness-assessment-for-all-job-seekers-3/2026-04-20/
LOCATION:WorkOne Indy\, 4410 Shadeland Ave\, Indianapolis\, IN\, 46226\, United States
CATEGORIES:WorkOne Workshops
ATTACH;FMTTYPE=image/jpeg:https://employindy.org/wp-content/uploads/2026/02/WorkKeys_banner.jpg
ORGANIZER;CN="WorkOne Indy":MAILTO:4410 N Shadeland Ave, Indianapolis, IN 46226
END:VEVENT
BEGIN:VEVENT
DTSTART;TZID=UTC:20260420T083000
DTEND;TZID=UTC:20260420T100000
DTSTAMP:20260421T164841
CREATED:20260209T191048Z
LAST-MODIFIED:20260209T191048Z
UID:10000521-1776673800-1776679200@employindy.org
SUMMARY:WorkKeys Career Readiness Assessment for All Job Seekers
DESCRIPTION:Join Anthem and various healthcare partners/providers for a hiring event focused on careers in healthcare.								\n				\n				\n				\n							\n			\n		\n						\n				\n					\n				\n		\n					\n				\n				\n									\n					\n						\n									View Event Flyer
URL:https://employindy.org/event/workkeys-career-readiness-assessment-for-all-job-seekers/2026-04-20/
LOCATION:WorkOne Indy\, 4410 Shadeland Ave\, Indianapolis\, IN\, 46226\, United States
CATEGORIES:WorkOne Workshops
ATTACH;FMTTYPE=image/jpeg:https://employindy.org/wp-content/uploads/2026/02/WorkKeys_banner.jpg
ORGANIZER;CN="WorkOne Indy":MAILTO:4410 N Shadeland Ave, Indianapolis, IN 46226
END:VEVENT
BEGIN:VEVENT
DTSTART;TZID=UTC:20260417T110000
DTEND;TZID=UTC:20260417T140000
DTSTAMP:20260421T164841
CREATED:20260330T175632Z
LAST-MODIFIED:20260410T142742Z
UID:10002850-1776423600-1776434400@employindy.org
SUMMARY:Good Wages Initiative Hiring Event
DESCRIPTION:Join Anthem and various healthcare partners/providers for a hiring event focused on careers in healthcare.								\n				\n				\n				\n							\n			\n		\n						\n				\n					\n				\n		\n					\n				\n				\n									\n					\n						\n									View Event Flyer
URL:https://employindy.org/event/good-wages-initiative-hiring-event/
LOCATION:WorkOne Indy\, 4410 Shadeland Ave\, Indianapolis\, IN\, 46226\, United States
CATEGORIES:Hiring/Job Fair,In-Person
ATTACH;FMTTYPE=image/jpeg:https://employindy.org/wp-content/uploads/2026/03/Event-3-scaled-e1774893368630.jpeg
ORGANIZER;CN="EmployIndy":MAILTO:contact@employindy.org
END:VEVENT
BEGIN:VEVENT
DTSTART;TZID=UTC:20260416T110000
DTEND;TZID=UTC:20260416T150000
DTSTAMP:20260421T164841
CREATED:20260331T205046Z
LAST-MODIFIED:20260410T143217Z
UID:10002851-1776337200-1776351600@employindy.org
SUMMARY:RecruitMilitary Indianapolis Veterans Job Fair
DESCRIPTION:Join Anthem and various healthcare partners/providers for a hiring event focused on careers in healthcare.								\n				\n				\n				\n							\n			\n		\n						\n				\n					\n				\n		\n					\n				\n				\n									\n					\n						\n									View Event Flyer
URL:https://employindy.org/event/recruitmilitary-indianapolis-veterans-job-fair/
LOCATION:Lucas Oil Stadium\, 500 S Capitol Ave\, Indianapolis\, IN\, 46225\, United States
CATEGORIES:Hiring/Job Fair,In-Person
ATTACH;FMTTYPE=image/jpeg:https://employindy.org/wp-content/uploads/2026/03/event-day-e1774990369904.jpg
END:VEVENT
BEGIN:VEVENT
DTSTART;TZID=UTC:20260415T140000
DTEND;TZID=UTC:20260415T153000
DTSTAMP:20260421T164841
CREATED:20260403T181843Z
LAST-MODIFIED:20260403T181843Z
UID:10002903-1776261600-1776267000@employindy.org
SUMMARY:Succeeding in the Workplace
DESCRIPTION:Join Anthem and various healthcare partners/providers for a hiring event focused on careers in healthcare.								\n				\n				\n				\n							\n			\n		\n						\n				\n					\n				\n		\n					\n				\n				\n									\n					\n						\n									View Event Flyer
URL:https://employindy.org/event/succeeding-in-the-workplace-4/2026-04-15/
LOCATION:WorkOne Indy\, 4410 Shadeland Ave\, Indianapolis\, IN\, 46226\, United States
CATEGORIES:WorkOne Workshops
ATTACH;FMTTYPE=image/jpeg:https://employindy.org/wp-content/uploads/2026/02/DSC07845-scaled-e1770656671568.jpg
ORGANIZER;CN="WorkOne Indy":MAILTO:4410 N Shadeland Ave, Indianapolis, IN 46226
END:VEVENT
BEGIN:VEVENT
DTSTART;TZID=UTC:20260415T110000
DTEND;TZID=UTC:20260415T140000
DTSTAMP:20260421T164841
CREATED:20260402T142829Z
LAST-MODIFIED:20260413T132011Z
UID:10002853-1776250800-1776261600@employindy.org
SUMMARY:Wednesdays @ WorkOne Hiring Event
DESCRIPTION:Join Anthem and various healthcare partners/providers for a hiring event focused on careers in healthcare.								\n				\n				\n				\n							\n			\n		\n						\n				\n					\n				\n		\n					\n				\n				\n									\n					\n						\n									View Event Flyer
URL:https://employindy.org/event/wednesdays-workone-hiring-event-12/
LOCATION:WorkOne Career Services\, 4410 N Shadeland Ave.\, Indianapolis\, IN\, 46226\, United States
CATEGORIES:Hiring/Job Fair,In-Person
ATTACH;FMTTYPE=image/jpeg:https://employindy.org/wp-content/uploads/2025/09/5-WOI-Vesta-Family-scaled-2.jpg
ORGANIZER;CN="WorkOne Indy":MAILTO:4410 N Shadeland Ave, Indianapolis, IN 46226
END:VEVENT
BEGIN:VEVENT
DTSTART;TZID=UTC:20260415T110000
DTEND;TZID=UTC:20260415T123000
DTSTAMP:20260421T164841
CREATED:20260409T164610Z
LAST-MODIFIED:20260409T164610Z
UID:10002938-1776250800-1776256200@employindy.org
SUMMARY:Planning For Training Success (VIRTUAL ONLY)
DESCRIPTION:Join Anthem and various healthcare partners/providers for a hiring event focused on careers in healthcare.								\n				\n				\n				\n							\n			\n		\n						\n				\n					\n				\n		\n					\n				\n				\n									\n					\n						\n									View Event Flyer
URL:https://employindy.org/event/planning-for-training-success-virtual-only-2/2026-04-15/
LOCATION:WorkOne Indy\, 4410 Shadeland Ave\, Indianapolis\, IN\, 46226\, United States
CATEGORIES:WorkOne Workshops
ATTACH;FMTTYPE=image/jpeg:https://employindy.org/wp-content/uploads/2026/02/DSC08767-e1770665747708.jpg
ORGANIZER;CN="WorkOne Indy":MAILTO:4410 N Shadeland Ave, Indianapolis, IN 46226
END:VEVENT
BEGIN:VEVENT
DTSTART;TZID=UTC:20260414T083000
DTEND;TZID=UTC:20260414T100000
DTSTAMP:20260421T164841
CREATED:20260209T191235Z
LAST-MODIFIED:20260209T191235Z
UID:10000638-1776155400-1776160800@employindy.org
SUMMARY:WorkKeys Career Readiness Assessment for All Job Seekers
DESCRIPTION:Join Anthem and various healthcare partners/providers for a hiring event focused on careers in healthcare.								\n				\n				\n				\n							\n			\n		\n						\n				\n					\n				\n		\n					\n				\n				\n									\n					\n						\n									View Event Flyer
URL:https://employindy.org/event/workkeys-career-readiness-assessment-for-all-job-seekers-2/2026-04-14/
LOCATION:WorkOne Indy\, 4410 Shadeland Ave\, Indianapolis\, IN\, 46226\, United States
CATEGORIES:WorkOne Workshops
ATTACH;FMTTYPE=image/jpeg:https://employindy.org/wp-content/uploads/2026/02/WorkKeys_banner.jpg
ORGANIZER;CN="WorkOne Indy":MAILTO:4410 N Shadeland Ave, Indianapolis, IN 46226
END:VEVENT
BEGIN:VEVENT
DTSTART;TZID=UTC:20260413T090000
DTEND;TZID=UTC:20260413T103000
DTSTAMP:20260421T164841
CREATED:20260402T162443Z
LAST-MODIFIED:20260408T163614Z
UID:10002866-1776070800-1776076200@employindy.org
SUMMARY:WorkOne Indy WIOA Orientation
DESCRIPTION:Join Anthem and various healthcare partners/providers for a hiring event focused on careers in healthcare.								\n				\n				\n				\n							\n			\n		\n						\n				\n					\n				\n		\n					\n				\n				\n									\n					\n						\n									View Event Flyer
URL:https://employindy.org/event/workone-indy-wioa-orientation-27/2026-04-13/
LOCATION:WorkOne Indy\, 4410 Shadeland Ave\, Indianapolis\, IN\, 46226\, United States
CATEGORIES:In-Person,WorkOne Workshops
ATTACH;FMTTYPE=image/jpeg:https://employindy.org/wp-content/uploads/2025/12/DSC06961-scaled.jpg
ORGANIZER;CN="WorkOne Indy":MAILTO:4410 N Shadeland Ave, Indianapolis, IN 46226
END:VEVENT
BEGIN:VEVENT
DTSTART;TZID=UTC:20260413T083000
DTEND;TZID=UTC:20260413T100000
DTSTAMP:20260421T164841
CREATED:20260209T191048Z
LAST-MODIFIED:20260209T191048Z
UID:10000520-1776069000-1776074400@employindy.org
SUMMARY:WorkKeys Career Readiness Assessment for All Job Seekers
DESCRIPTION:Join Anthem and various healthcare partners/providers for a hiring event focused on careers in healthcare.								\n				\n				\n				\n							\n			\n		\n						\n				\n					\n				\n		\n					\n				\n				\n									\n					\n						\n									View Event Flyer
URL:https://employindy.org/event/workkeys-career-readiness-assessment-for-all-job-seekers/2026-04-13/
LOCATION:WorkOne Indy\, 4410 Shadeland Ave\, Indianapolis\, IN\, 46226\, United States
CATEGORIES:WorkOne Workshops
ATTACH;FMTTYPE=image/jpeg:https://employindy.org/wp-content/uploads/2026/02/WorkKeys_banner.jpg
ORGANIZER;CN="WorkOne Indy":MAILTO:4410 N Shadeland Ave, Indianapolis, IN 46226
END:VEVENT
BEGIN:VEVENT
DTSTART;TZID=UTC:20260408T140000
DTEND;TZID=UTC:20260408T153000
DTSTAMP:20260421T164841
CREATED:20260403T181843Z
LAST-MODIFIED:20260403T181843Z
UID:10002902-1775656800-1775662200@employindy.org
SUMMARY:Succeeding in the Workplace
DESCRIPTION:Join Anthem and various healthcare partners/providers for a hiring event focused on careers in healthcare.								\n				\n				\n				\n							\n			\n		\n						\n				\n					\n				\n		\n					\n				\n				\n									\n					\n						\n									View Event Flyer
URL:https://employindy.org/event/succeeding-in-the-workplace-4/2026-04-08/
LOCATION:WorkOne Indy\, 4410 Shadeland Ave\, Indianapolis\, IN\, 46226\, United States
CATEGORIES:WorkOne Workshops
ATTACH;FMTTYPE=image/jpeg:https://employindy.org/wp-content/uploads/2026/02/DSC07845-scaled-e1770656671568.jpg
ORGANIZER;CN="WorkOne Indy":MAILTO:4410 N Shadeland Ave, Indianapolis, IN 46226
END:VEVENT
BEGIN:VEVENT
DTSTART;TZID=UTC:20260408T110000
DTEND;TZID=UTC:20260408T140000
DTSTAMP:20260421T164841
CREATED:20260402T142558Z
LAST-MODIFIED:20260402T142716Z
UID:10002852-1775646000-1775656800@employindy.org
SUMMARY:Wednesdays @ WorkOne Hiring Event
DESCRIPTION:Join Anthem and various healthcare partners/providers for a hiring event focused on careers in healthcare.								\n				\n				\n				\n							\n			\n		\n						\n				\n					\n				\n		\n					\n				\n				\n									\n					\n						\n									View Event Flyer
URL:https://employindy.org/event/wednesdays-workone-hiring-event-11/
LOCATION:WorkOne Career Services\, 4410 N Shadeland Ave.\, Indianapolis\, IN\, 46226\, United States
CATEGORIES:Hiring/Job Fair,In-Person
ATTACH;FMTTYPE=image/jpeg:https://employindy.org/wp-content/uploads/2025/09/5-WOI-Vesta-Family-scaled-2.jpg
ORGANIZER;CN="WorkOne Indy":MAILTO:4410 N Shadeland Ave, Indianapolis, IN 46226
END:VEVENT
BEGIN:VEVENT
DTSTART;TZID=UTC:20260407T083000
DTEND;TZID=UTC:20260407T100000
DTSTAMP:20260421T164841
CREATED:20260209T191235Z
LAST-MODIFIED:20260209T191235Z
UID:10000637-1775550600-1775556000@employindy.org
SUMMARY:WorkKeys Career Readiness Assessment for All Job Seekers
DESCRIPTION:Join Anthem and various healthcare partners/providers for a hiring event focused on careers in healthcare.								\n				\n				\n				\n							\n			\n		\n						\n				\n					\n				\n		\n					\n				\n				\n									\n					\n						\n									View Event Flyer
URL:https://employindy.org/event/workkeys-career-readiness-assessment-for-all-job-seekers-2/2026-04-07/
LOCATION:WorkOne Indy\, 4410 Shadeland Ave\, Indianapolis\, IN\, 46226\, United States
CATEGORIES:WorkOne Workshops
ATTACH;FMTTYPE=image/jpeg:https://employindy.org/wp-content/uploads/2026/02/WorkKeys_banner.jpg
ORGANIZER;CN="WorkOne Indy":MAILTO:4410 N Shadeland Ave, Indianapolis, IN 46226
END:VEVENT
BEGIN:VEVENT
DTSTART;TZID=UTC:20260406T090000
DTEND;TZID=UTC:20260406T103000
DTSTAMP:20260421T164841
CREATED:20260402T162443Z
LAST-MODIFIED:20260408T163614Z
UID:10002865-1775466000-1775471400@employindy.org
SUMMARY:WorkOne Indy WIOA Orientation
DESCRIPTION:Join Anthem and various healthcare partners/providers for a hiring event focused on careers in healthcare.								\n				\n				\n				\n							\n			\n		\n						\n				\n					\n				\n		\n					\n				\n				\n									\n					\n						\n									View Event Flyer
URL:https://employindy.org/event/workone-indy-wioa-orientation-27/2026-04-06/
LOCATION:WorkOne Indy\, 4410 Shadeland Ave\, Indianapolis\, IN\, 46226\, United States
CATEGORIES:In-Person,WorkOne Workshops
ATTACH;FMTTYPE=image/jpeg:https://employindy.org/wp-content/uploads/2025/12/DSC06961-scaled.jpg
ORGANIZER;CN="WorkOne Indy":MAILTO:4410 N Shadeland Ave, Indianapolis, IN 46226
END:VEVENT
BEGIN:VEVENT
DTSTART;TZID=UTC:20260406T083000
DTEND;TZID=UTC:20260406T100000
DTSTAMP:20260421T164841
CREATED:20260209T191048Z
LAST-MODIFIED:20260209T191048Z
UID:10000519-1775464200-1775469600@employindy.org
SUMMARY:WorkKeys Career Readiness Assessment for All Job Seekers
DESCRIPTION:Join Anthem and various healthcare partners/providers for a hiring event focused on careers in healthcare.								\n				\n				\n				\n							\n			\n		\n						\n				\n					\n				\n		\n					\n				\n				\n									\n					\n						\n									View Event Flyer
URL:https://employindy.org/event/workkeys-career-readiness-assessment-for-all-job-seekers/2026-04-06/
LOCATION:WorkOne Indy\, 4410 Shadeland Ave\, Indianapolis\, IN\, 46226\, United States
CATEGORIES:WorkOne Workshops
ATTACH;FMTTYPE=image/jpeg:https://employindy.org/wp-content/uploads/2026/02/WorkKeys_banner.jpg
ORGANIZER;CN="WorkOne Indy":MAILTO:4410 N Shadeland Ave, Indianapolis, IN 46226
END:VEVENT
BEGIN:VEVENT
DTSTART;TZID=UTC:20260401T110000
DTEND;TZID=UTC:20260401T140000
DTSTAMP:20260421T164841
CREATED:20260327T182324Z
LAST-MODIFIED:20260327T182324Z
UID:10002849-1775041200-1775052000@employindy.org
SUMMARY:Wednesdays @ WorkOne Hiring Event
DESCRIPTION:Join Anthem and various healthcare partners/providers for a hiring event focused on careers in healthcare.								\n				\n				\n				\n							\n			\n		\n						\n				\n					\n				\n		\n					\n				\n				\n									\n					\n						\n									View Event Flyer
URL:https://employindy.org/event/wednesdays-workone-hiring-event-10/
LOCATION:WorkOne Career Services\, 4410 N Shadeland Ave.\, Indianapolis\, IN\, 46226\, United States
CATEGORIES:Hiring/Job Fair,In-Person
ATTACH;FMTTYPE=image/jpeg:https://employindy.org/wp-content/uploads/2025/09/5-WOI-Vesta-Family-scaled-2.jpg
ORGANIZER;CN="WorkOne Indy":MAILTO:4410 N Shadeland Ave, Indianapolis, IN 46226
END:VEVENT
BEGIN:VEVENT
DTSTART;TZID=UTC:20260331T140000
DTEND;TZID=UTC:20260331T153000
DTSTAMP:20260421T164841
CREATED:20260206T213946Z
LAST-MODIFIED:20260206T213946Z
UID:10000399-1774965600-1774971000@employindy.org
SUMMARY:Creating A Career Roadmap
DESCRIPTION:Join Anthem and various healthcare partners/providers for a hiring event focused on careers in healthcare.								\n				\n				\n				\n							\n			\n		\n						\n				\n					\n				\n		\n					\n				\n				\n									\n					\n						\n									View Event Flyer
URL:https://employindy.org/event/creating-a-career-roadmap-8/
LOCATION:WorkOne Indy\, 4410 Shadeland Ave\, Indianapolis\, IN\, 46226\, United States
CATEGORIES:WorkOne Workshops
ATTACH;FMTTYPE=image/jpeg:https://employindy.org/wp-content/uploads/2026/02/pexels-geojango-maps-50965933-7663519-scaled-e1770413693494.jpg
ORGANIZER;CN="WorkOne Indy":MAILTO:4410 N Shadeland Ave, Indianapolis, IN 46226
END:VEVENT
BEGIN:VEVENT
DTSTART;TZID=UTC:20260331T140000
DTEND;TZID=UTC:20260331T153000
DTSTAMP:20260421T164841
CREATED:20260205T210807Z
LAST-MODIFIED:20260205T210807Z
UID:10000336-1774965600-1774971000@employindy.org
SUMMARY:Job Search Strategies
DESCRIPTION:Join Anthem and various healthcare partners/providers for a hiring event focused on careers in healthcare.								\n				\n				\n				\n							\n			\n		\n						\n				\n					\n				\n		\n					\n				\n				\n									\n					\n						\n									View Event Flyer
URL:https://employindy.org/event/job-search-strategies-8/
LOCATION:IN
CATEGORIES:WorkOne Workshops
ATTACH;FMTTYPE=image/jpeg:https://employindy.org/wp-content/uploads/2026/02/DSC00032_crop.jpg
END:VEVENT
BEGIN:VEVENT
DTSTART;TZID=UTC:20260331T103000
DTEND;TZID=UTC:20260331T120000
DTSTAMP:20260421T164841
CREATED:20260209T185621Z
LAST-MODIFIED:20260209T185621Z
UID:10000482-1774953000-1774958400@employindy.org
SUMMARY:WorkKeys Talent & Fit
DESCRIPTION:Join Anthem and various healthcare partners/providers for a hiring event focused on careers in healthcare.								\n				\n				\n				\n							\n			\n		\n						\n				\n					\n				\n		\n					\n				\n				\n									\n					\n						\n									View Event Flyer
URL:https://employindy.org/event/workkeys-talent-fit/2026-03-31/
LOCATION:WorkOne Indy\, 4410 Shadeland Ave\, Indianapolis\, IN\, 46226\, United States
CATEGORIES:WorkOne Workshops
ATTACH;FMTTYPE=image/jpeg:https://employindy.org/wp-content/uploads/2026/02/WorkKeys_banner.jpg
ORGANIZER;CN="WorkOne Indy":MAILTO:4410 N Shadeland Ave, Indianapolis, IN 46226
END:VEVENT
BEGIN:VEVENT
DTSTART;TZID=UTC:20260331T090000
DTEND;TZID=UTC:20260331T103000
DTSTAMP:20260421T164841
CREATED:20260209T194623Z
LAST-MODIFIED:20260209T194623Z
UID:10000732-1774947600-1774953000@employindy.org
SUMMARY:WorkKeys Skills Success: Assessment Prep
DESCRIPTION:Join Anthem and various healthcare partners/providers for a hiring event focused on careers in healthcare.								\n				\n				\n				\n							\n			\n		\n						\n				\n					\n				\n		\n					\n				\n				\n									\n					\n						\n									View Event Flyer
URL:https://employindy.org/event/workkeys-skills-success-assessment-prep/2026-03-31/
LOCATION:WorkOne Indy\, 4410 Shadeland Ave\, Indianapolis\, IN\, 46226\, United States
CATEGORIES:WorkOne Workshops
ATTACH;FMTTYPE=image/jpeg:https://employindy.org/wp-content/uploads/2026/02/WorkKeys_banner.jpg
ORGANIZER;CN="WorkOne Indy":MAILTO:4410 N Shadeland Ave, Indianapolis, IN 46226
END:VEVENT
END:VCALENDAR