BEGIN:VCALENDAR
VERSION:2.0
PRODID:-//EmployIndy - ECPv6.15.17//NONSGML v1.0//EN
CALSCALE:GREGORIAN
METHOD:PUBLISH
X-ORIGINAL-URL:https://employindy.org
X-WR-CALDESC:Events for EmployIndy
REFRESH-INTERVAL;VALUE=DURATION:PT1H
X-Robots-Tag:noindex
X-PUBLISHED-TTL:PT1H
BEGIN:VTIMEZONE
TZID:UTC
BEGIN:STANDARD
TZOFFSETFROM:+0000
TZOFFSETTO:+0000
TZNAME:UTC
DTSTART:20250101T000000
END:STANDARD
END:VTIMEZONE
BEGIN:VEVENT
DTSTART;TZID=UTC:20260126T090000
DTEND;TZID=UTC:20260126T100000
DTSTAMP:20260424T211445
CREATED:20260105T211032Z
LAST-MODIFIED:20260105T211032Z
UID:10000280-1769418000-1769421600@employindy.org
SUMMARY:WorkOne Indy WIOA Orientation
DESCRIPTION:Learn more about individualized services that can be provided to you at WorkOne Indy. You will also be able to learn about possible training opportunities that WorkOne Indy can fund for eligible individuals. \nAll workshops require registration. \nTo register for a workshop\, call WorkOne Indy at 317-798-0335 ext. 1044 or email questions@workoneindy.com.
URL:https://employindy.org/event/workone-indy-wioa-orientation-2/
LOCATION:WorkOne Indy\, 4410 Shadeland Ave\, Indianapolis\, IN\, 46226\, United States
CATEGORIES:WorkOne Workshops
ATTACH;FMTTYPE=image/jpeg:https://employindy.org/wp-content/uploads/2025/12/DSC06961-scaled.jpg
ORGANIZER;CN="WorkOne Indy":MAILTO:4410 N Shadeland Ave, Indianapolis, IN 46226
END:VEVENT
END:VCALENDAR