BEGIN:VCALENDAR
VERSION:2.0
PRODID:-//EmployIndy - ECPv6.15.17//NONSGML v1.0//EN
CALSCALE:GREGORIAN
METHOD:PUBLISH
X-ORIGINAL-URL:https://employindy.org
X-WR-CALDESC:Events for EmployIndy
REFRESH-INTERVAL;VALUE=DURATION:PT1H
X-Robots-Tag:noindex
X-PUBLISHED-TTL:PT1H
BEGIN:VTIMEZONE
TZID:UTC
BEGIN:STANDARD
TZOFFSETFROM:+0000
TZOFFSETTO:+0000
TZNAME:UTC
DTSTART:20250101T000000
END:STANDARD
END:VTIMEZONE
BEGIN:VEVENT
DTSTART;TZID=UTC:20260820T110000
DTEND;TZID=UTC:20260820T130000
DTSTAMP:20260422T161143
CREATED:20260123T171741Z
LAST-MODIFIED:20260326T170253Z
UID:10000293-1787223600-1787230800@employindy.org
SUMMARY:Mayor’s Celebration of Diversity Awards 2026
DESCRIPTION:WorkOne Indy is having a free hiring event every Wednesday from 11:00 am to 2:00 pm at 4410 Shadeland Avenue\, Indianapolis\, IN 46226. Job seekers will have an opportunity to meet with employers who are looking to fill open job positions right now. No registration is required. The following employers are scheduled to be at the March 11th event: Cater2u Home Care Service LLCCentral Indiana Regional Transportation Authority- CIRTACity of IndianapolisCouncil of Three Rivers American Indian CenterEmployindyEvelyn Home CareFull Beauty BrandsJewel’s Blessings Home CareJohn Boner Neighborhood CentersNew BeginningsProman StaffingProject One Love IncVantage AgingVolumod
URL:https://employindy.org/event/mayors-celebration-of-diversity-awards-2026/
LOCATION:IN
CATEGORIES:Fundraiser,In-Person
ATTACH;FMTTYPE=image/jpeg:https://employindy.org/wp-content/uploads/2025/09/Sam-H.-Jones-‘Best-Of-The-Best-Award_Martin-University-scaled-e1772125885861.jpg
ORGANIZER;CN="EmployIndy":MAILTO:contact@employindy.org
END:VEVENT
END:VCALENDAR