BEGIN:VCALENDAR
VERSION:2.0
PRODID:-//EmployIndy - ECPv6.15.17//NONSGML v1.0//EN
CALSCALE:GREGORIAN
METHOD:PUBLISH
X-WR-CALNAME:EmployIndy
X-ORIGINAL-URL:https://employindy.org
X-WR-CALDESC:Events for EmployIndy
REFRESH-INTERVAL;VALUE=DURATION:PT1H
X-Robots-Tag:noindex
X-PUBLISHED-TTL:PT1H
BEGIN:VTIMEZONE
TZID:UTC
BEGIN:STANDARD
TZOFFSETFROM:+0000
TZOFFSETTO:+0000
TZNAME:UTC
DTSTART:20250101T000000
END:STANDARD
END:VTIMEZONE
BEGIN:VEVENT
DTSTART;TZID=UTC:20260313T110000
DTEND;TZID=UTC:20260313T123000
DTSTAMP:20260420T162637
CREATED:20260206T205011Z
LAST-MODIFIED:20260206T205011Z
UID:5112-1773399600-1773405000@employindy.org
SUMMARY:Social Media & Networking To Find Employment
DESCRIPTION:Networking using social media is a valuable tool in job searching. This workshop prepares you to use simple and effective strategies for building your own connections to find employment quickly. \n  \nAll workshops require registration. All registrations must be completed within ICC (Indiana Career Connect). To register for this workshop\, please complete the following steps:\n\nLog in to ICC (Indiana Career Connect) or create an account at https://www.indianacareerconnect.com/vosnet/default.aspx.\nOn the top banner\, select the Calendar icon.\nIn the Calendar menu\, select “Events.”\nFind and select the workshop you want to schedule.\nReview the workshop details (date/time/location)\, then select “Register” or “Sign Up” (button name may vary).\nConfirm your registration and check for a confirmation message on the screen.\n\nIf you have questions about the registration process or need assistance\, please email questions@workoneindy.com or call WorkOne Indy at 317-798-0335 ext. 1044.
URL:https://employindy.org/event/social-media-networking-to-find-employment-5/
LOCATION:WorkOne Indy\, 4410 Shadeland Ave\, Indianapolis\, IN\, 46226\, United States
CATEGORIES:WorkOne Workshops
ATTACH;FMTTYPE=image/jpeg:https://employindy.org/wp-content/uploads/2026/02/AdobeStock_862381115-scaled.jpeg
ORGANIZER;CN="WorkOne Indy":MAILTO:4410 N Shadeland Ave, Indianapolis, IN 46226
END:VEVENT
END:VCALENDAR